BEGIN:VCALENDAR
VERSION:2.0
PRODID:-//Knights of Columbus Council 14077 - ECPv6.15.20//NONSGML v1.0//EN
CALSCALE:GREGORIAN
METHOD:PUBLISH
X-WR-CALNAME:Knights of Columbus Council 14077
X-ORIGINAL-URL:https://kofc14077.org
X-WR-CALDESC:Events for Knights of Columbus Council 14077
REFRESH-INTERVAL;VALUE=DURATION:PT1H
X-Robots-Tag:noindex
X-PUBLISHED-TTL:PT1H
BEGIN:VTIMEZONE
TZID:America/Chicago
BEGIN:DAYLIGHT
TZOFFSETFROM:-0600
TZOFFSETTO:-0500
TZNAME:CDT
DTSTART:20230312T080000
END:DAYLIGHT
BEGIN:STANDARD
TZOFFSETFROM:-0500
TZOFFSETTO:-0600
TZNAME:CST
DTSTART:20231105T070000
END:STANDARD
BEGIN:DAYLIGHT
TZOFFSETFROM:-0600
TZOFFSETTO:-0500
TZNAME:CDT
DTSTART:20240310T080000
END:DAYLIGHT
BEGIN:STANDARD
TZOFFSETFROM:-0500
TZOFFSETTO:-0600
TZNAME:CST
DTSTART:20241103T070000
END:STANDARD
BEGIN:DAYLIGHT
TZOFFSETFROM:-0600
TZOFFSETTO:-0500
TZNAME:CDT
DTSTART:20250309T080000
END:DAYLIGHT
BEGIN:STANDARD
TZOFFSETFROM:-0500
TZOFFSETTO:-0600
TZNAME:CST
DTSTART:20251102T070000
END:STANDARD
BEGIN:DAYLIGHT
TZOFFSETFROM:-0600
TZOFFSETTO:-0500
TZNAME:CDT
DTSTART:20260308T080000
END:DAYLIGHT
BEGIN:STANDARD
TZOFFSETFROM:-0500
TZOFFSETTO:-0600
TZNAME:CST
DTSTART:20261101T070000
END:STANDARD
BEGIN:DAYLIGHT
TZOFFSETFROM:-0600
TZOFFSETTO:-0500
TZNAME:CDT
DTSTART:20270314T080000
END:DAYLIGHT
BEGIN:STANDARD
TZOFFSETFROM:-0500
TZOFFSETTO:-0600
TZNAME:CST
DTSTART:20271107T070000
END:STANDARD
END:VTIMEZONE
BEGIN:VEVENT
DTSTART;TZID=America/Chicago:20240704T090000
DTEND;TZID=America/Chicago:20240704T220000
DTSTAMP:20260425T071639
CREATED:20240625T152944Z
LAST-MODIFIED:20240625T152944Z
UID:1422-1720083600-1720130400@kofc14077.org
SUMMARY:Fireworks Stand - Knights partnering with Wild Willy's
DESCRIPTION:Walmart parking lot at I-80 and Hwy 370
URL:https://kofc14077.org/cal/fireworks-stand-knights-partnering-with-wild-willys-10/
LOCATION:Walmart Parking Lot (I-80 & Hwy 370)\, 11350 Wickersham Blvd\, Gretna\, NE\, 68028
CATEGORIES:Activity
ORGANIZER;CN="Scott Kinkaid":MAILTO:scott.kinkaid19@gmail.com
END:VEVENT
BEGIN:VEVENT
DTSTART;TZID=America/Chicago:20240713T110000
DTEND;TZID=America/Chicago:20240713T190000
DTSTAMP:20260425T071639
CREATED:20230811T224314Z
LAST-MODIFIED:20230811T224314Z
UID:1145-1720868400-1720897200@kofc14077.org
SUMMARY:Knights of Columbus 14077 Golf Event
DESCRIPTION:Information coming…. \n11am Registration – 1pm Shotgun Start
URL:https://kofc14077.org/cal/knights-of-columbus-14077-golf-event/
LOCATION:Tiburon Golf Course\, 10302 S 168th St\, Omaha\, NE\, 68136
CATEGORIES:Activity
ORGANIZER;CN="Kent Sona":MAILTO:KentSona@gmail.com
END:VEVENT
BEGIN:VEVENT
DTSTART;TZID=America/Chicago:20240825T070000
DTEND;TZID=America/Chicago:20240825T110000
DTSTAMP:20260425T071639
CREATED:20240105T044248Z
LAST-MODIFIED:20240105T044248Z
UID:1237-1724569200-1724583600@kofc14077.org
SUMMARY:Pancake Breakfast
DESCRIPTION:
URL:https://kofc14077.org/cal/pancake-breakfast-3/
LOCATION:St Charles Borromeo Catholic Church\, 7790 S 192nd St\, Gretna\, NE\, 68028\, United States
CATEGORIES:Activity
END:VEVENT
BEGIN:VEVENT
DTSTART;TZID=America/Chicago:20241208T070000
DTEND;TZID=America/Chicago:20241208T110000
DTSTAMP:20260425T071639
CREATED:20240105T044406Z
LAST-MODIFIED:20240105T044406Z
UID:1239-1733641200-1733655600@kofc14077.org
SUMMARY:Pancake Breakfast with Santa
DESCRIPTION:
URL:https://kofc14077.org/cal/pancake-breakfast-with-santa/
LOCATION:St Charles Borromeo Catholic Church\, 7790 S 192nd St\, Gretna\, NE\, 68028\, United States
CATEGORIES:Activity
END:VEVENT
BEGIN:VEVENT
DTSTART;TZID=America/Chicago:20250202T100000
DTEND;TZID=America/Chicago:20250202T123000
DTSTAMP:20260425T071639
CREATED:20240930T180331Z
LAST-MODIFIED:20240930T181042Z
UID:1442-1738490400-1738499400@kofc14077.org
SUMMARY:Pancake Breakfast
DESCRIPTION:
URL:https://kofc14077.org/cal/pancake-breakfast-4/
LOCATION:St Charles Borromeo Catholic Church\, 7790 S 192nd St\, Gretna\, NE\, 68028\, United States
CATEGORIES:Activity
END:VEVENT
BEGIN:VEVENT
DTSTART;TZID=America/Chicago:20250518T100000
DTEND;TZID=America/Chicago:20250518T123000
DTSTAMP:20260425T071639
CREATED:20240930T180900Z
LAST-MODIFIED:20240930T180900Z
UID:1444-1747562400-1747571400@kofc14077.org
SUMMARY:Pancake Breakfast
DESCRIPTION:
URL:https://kofc14077.org/cal/pancake-breakfast-5/
LOCATION:St Charles Borromeo Catholic Church\, 7790 S 192nd St\, Gretna\, NE\, 68028\, United States
CATEGORIES:Activity
END:VEVENT
BEGIN:VEVENT
DTSTART;TZID=America/Chicago:20250817T100000
DTEND;TZID=America/Chicago:20250817T123000
DTSTAMP:20260425T071639
CREATED:20240930T181334Z
LAST-MODIFIED:20240930T181334Z
UID:1446-1755424800-1755433800@kofc14077.org
SUMMARY:Pancake Breakfast
DESCRIPTION:
URL:https://kofc14077.org/cal/pancake-breakfast-6/
LOCATION:St Charles Borromeo Catholic Church\, 7790 S 192nd St\, Gretna\, NE\, 68028\, United States
CATEGORIES:Activity
END:VEVENT
BEGIN:VEVENT
DTSTART;TZID=America/Chicago:20251207T100000
DTEND;TZID=America/Chicago:20251207T123000
DTSTAMP:20260425T071639
CREATED:20240930T181424Z
LAST-MODIFIED:20240930T181424Z
UID:1448-1765101600-1765110600@kofc14077.org
SUMMARY:Pancake Breakfast
DESCRIPTION:
URL:https://kofc14077.org/cal/pancake-breakfast-7/
LOCATION:St Charles Borromeo Catholic Church\, 7790 S 192nd St\, Gretna\, NE\, 68028\, United States
CATEGORIES:Activity
END:VEVENT
BEGIN:VEVENT
DTSTART;TZID=America/Chicago:20260205T181500
DTEND;TZID=America/Chicago:20260205T185500
DTSTAMP:20260425T071639
CREATED:20260203T152933Z
LAST-MODIFIED:20260205T150104Z
UID:1567-1770315300-1770317700@kofc14077.org
SUMMARY:Degree Ceremony - postponed
DESCRIPTION:for February no confirmed participants
URL:https://kofc14077.org/cal/degree-ceremony-2/
LOCATION:St Charles Borromeo Catholic Church\, 7790 S 192nd St\, Gretna\, NE\, 68028\, United States
CATEGORIES:Activity
END:VEVENT
BEGIN:VEVENT
DTSTART;TZID=America/Chicago:20260220T170000
DTEND;TZID=America/Chicago:20260220T203000
DTSTAMP:20260425T071639
CREATED:20260203T162513Z
LAST-MODIFIED:20260203T162513Z
UID:1571-1771606800-1771619400@kofc14077.org
SUMMARY:Lenten Fish Fry
DESCRIPTION:Taking place in the gym. \nPickup Orders Available \nVolunteering opportunities available: https://www.signupgenius.com/go/70A094BA9A82AA31-55643673-kofc#/
URL:https://kofc14077.org/cal/lenten-fish-fry/
LOCATION:St Charles Borromeo Catholic Church\, 7790 S 192nd St\, Gretna\, NE\, 68028\, United States
CATEGORIES:Activity
END:VEVENT
END:VCALENDAR