BEGIN:VCALENDAR
VERSION:2.0
PRODID:-//Knights of Columbus Council 14077 - ECPv6.15.20//NONSGML v1.0//EN
CALSCALE:GREGORIAN
METHOD:PUBLISH
X-WR-CALNAME:Knights of Columbus Council 14077
X-ORIGINAL-URL:https://kofc14077.org
X-WR-CALDESC:Events for Knights of Columbus Council 14077
REFRESH-INTERVAL;VALUE=DURATION:PT1H
X-Robots-Tag:noindex
X-PUBLISHED-TTL:PT1H
BEGIN:VTIMEZONE
TZID:America/Chicago
BEGIN:DAYLIGHT
TZOFFSETFROM:-0600
TZOFFSETTO:-0500
TZNAME:CDT
DTSTART:20220313T080000
END:DAYLIGHT
BEGIN:STANDARD
TZOFFSETFROM:-0500
TZOFFSETTO:-0600
TZNAME:CST
DTSTART:20221106T070000
END:STANDARD
BEGIN:DAYLIGHT
TZOFFSETFROM:-0600
TZOFFSETTO:-0500
TZNAME:CDT
DTSTART:20230312T080000
END:DAYLIGHT
BEGIN:STANDARD
TZOFFSETFROM:-0500
TZOFFSETTO:-0600
TZNAME:CST
DTSTART:20231105T070000
END:STANDARD
BEGIN:DAYLIGHT
TZOFFSETFROM:-0600
TZOFFSETTO:-0500
TZNAME:CDT
DTSTART:20240310T080000
END:DAYLIGHT
BEGIN:STANDARD
TZOFFSETFROM:-0500
TZOFFSETTO:-0600
TZNAME:CST
DTSTART:20241103T070000
END:STANDARD
BEGIN:DAYLIGHT
TZOFFSETFROM:-0600
TZOFFSETTO:-0500
TZNAME:CDT
DTSTART:20250309T080000
END:DAYLIGHT
BEGIN:STANDARD
TZOFFSETFROM:-0500
TZOFFSETTO:-0600
TZNAME:CST
DTSTART:20251102T070000
END:STANDARD
BEGIN:DAYLIGHT
TZOFFSETFROM:-0600
TZOFFSETTO:-0500
TZNAME:CDT
DTSTART:20260308T080000
END:DAYLIGHT
BEGIN:STANDARD
TZOFFSETFROM:-0500
TZOFFSETTO:-0600
TZNAME:CST
DTSTART:20261101T070000
END:STANDARD
BEGIN:DAYLIGHT
TZOFFSETFROM:-0600
TZOFFSETTO:-0500
TZNAME:CDT
DTSTART:20270314T080000
END:DAYLIGHT
BEGIN:STANDARD
TZOFFSETFROM:-0500
TZOFFSETTO:-0600
TZNAME:CST
DTSTART:20271107T070000
END:STANDARD
END:VTIMEZONE
BEGIN:VEVENT
DTSTART;TZID=America/Chicago:20260305T070000
DTEND;TZID=America/Chicago:20260305T210000
DTSTAMP:20260423T164831
CREATED:20260203T163710Z
LAST-MODIFIED:20260203T163710Z
UID:1584-1772694000-1772744400@kofc14077.org
SUMMARY:General Meeting and Rosary
DESCRIPTION:Meet in the gym\, proceed to the worship center for the rosary\, and afterwards back to the gym for the meeting. \nAt the conclusion of the meeting\, a meal will be provided.
URL:https://kofc14077.org/cal/general-meeting-and-rosary-2/
LOCATION:St Charles Borromeo Catholic Church\, 7790 S 192nd St\, Gretna\, NE\, 68028\, United States
CATEGORIES:General Meeting
END:VEVENT
BEGIN:VEVENT
DTSTART;TZID=America/Chicago:20260205T190000
DTEND;TZID=America/Chicago:20260205T210000
DTSTAMP:20260423T164831
CREATED:20260203T152204Z
LAST-MODIFIED:20260205T150244Z
UID:1563-1770318000-1770325200@kofc14077.org
SUMMARY:General Meeting and Rosary
DESCRIPTION:Meet in the gym\, move to the worship center for the rosary\, and back to the gym for the meeting. Refreshments will be served after the meeting.
URL:https://kofc14077.org/cal/general-meeting-and-rosary/
LOCATION:St Charles Borromeo Catholic Church\, 7790 S 192nd St\, Gretna\, NE\, 68028\, United States
CATEGORIES:General Meeting
END:VEVENT
BEGIN:VEVENT
DTSTART;TZID=America/Chicago:20251106T190000
DTEND;TZID=America/Chicago:20251106T210000
DTSTAMP:20260423T164831
CREATED:20250802T160900Z
LAST-MODIFIED:20250802T160900Z
UID:1516-1762455600-1762462800@kofc14077.org
SUMMARY:General Assembly Meeting and Rosary
DESCRIPTION:Meet in the gym\, proceed to the sanctuary for the rosary\, then back to the gym to proceed. \nFood will be provided upon conclusion of the meeting.
URL:https://kofc14077.org/cal/general-assembly-meeting-and-rosary-4/
LOCATION:St Charles Borromeo Catholic Church\, 7790 S 192nd St\, Gretna\, NE\, 68028\, United States
CATEGORIES:General Meeting
END:VEVENT
BEGIN:VEVENT
DTSTART;TZID=America/Chicago:20251002T190000
DTEND;TZID=America/Chicago:20251002T210000
DTSTAMP:20260423T164831
CREATED:20250802T160748Z
LAST-MODIFIED:20250802T160748Z
UID:1514-1759431600-1759438800@kofc14077.org
SUMMARY:General Assembly Meeting and Rosary
DESCRIPTION:Meet in the gym\, proceed to the sanctuary for the rosary\, then back to the gym to proceed. \nFood will be provided upon conclusion of the meeting.
URL:https://kofc14077.org/cal/general-assembly-meeting-and-rosary-3/
LOCATION:St Charles Borromeo Catholic Church\, 7790 S 192nd St\, Gretna\, NE\, 68028\, United States
CATEGORIES:General Meeting
END:VEVENT
BEGIN:VEVENT
DTSTART;TZID=America/Chicago:20250904T190000
DTEND;TZID=America/Chicago:20250904T210000
DTSTAMP:20260423T164831
CREATED:20250802T160641Z
LAST-MODIFIED:20250802T160641Z
UID:1512-1757012400-1757019600@kofc14077.org
SUMMARY:General Assembly Meeting and Rosary
DESCRIPTION:Meet in the gym\, proceed to the sanctuary for the rosary\, then back to the gym to proceed. \nFood will be provided upon conclusion of the meeting.
URL:https://kofc14077.org/cal/general-assembly-meeting-and-rosary-2/
LOCATION:St Charles Borromeo Catholic Church\, 7790 S 192nd St\, Gretna\, NE\, 68028\, United States
CATEGORIES:General Meeting
END:VEVENT
BEGIN:VEVENT
DTSTART;TZID=America/Chicago:20250807T190000
DTEND;TZID=America/Chicago:20250807T210000
DTSTAMP:20260423T164831
CREATED:20250802T160207Z
LAST-MODIFIED:20250802T160207Z
UID:1510-1754593200-1754600400@kofc14077.org
SUMMARY:General Assembly Meeting and Rosary
DESCRIPTION:Meet in the gym\, proceed to the sanctuary for the rosary\, then back to the gym to proceed. \nFood will be provided upon conclusion of the meeting.
URL:https://kofc14077.org/cal/general-assembly-meeting-and-rosary/
LOCATION:St Charles Borromeo Catholic Church\, 7790 S 192nd St\, Gretna\, NE\, 68028\, United States
CATEGORIES:General Meeting
END:VEVENT
BEGIN:VEVENT
DTSTART;TZID=America/Chicago:20250403T190000
DTEND;TZID=America/Chicago:20250403T210000
DTSTAMP:20260423T164831
CREATED:20250211T163722Z
LAST-MODIFIED:20250211T163722Z
UID:1468-1743706800-1743714000@kofc14077.org
SUMMARY:General Membership Meeting
DESCRIPTION:We will meet in the gym \nCheck Meeting notes
URL:https://kofc14077.org/cal/general-membership-meeting-9/
LOCATION:St Charles Borromeo Catholic Church\, 7790 S 192nd St\, Gretna\, NE\, 68028\, United States
CATEGORIES:General Meeting
END:VEVENT
BEGIN:VEVENT
DTSTART;TZID=America/Chicago:20250306T190000
DTEND;TZID=America/Chicago:20250306T210000
DTSTAMP:20260423T164831
CREATED:20250211T150450Z
LAST-MODIFIED:20250211T150450Z
UID:1463-1741287600-1741294800@kofc14077.org
SUMMARY:General Membership Meeting
DESCRIPTION:We’ll meet in the Gym \nMeeting minutes page
URL:https://kofc14077.org/cal/general-membership-meeting-8/
LOCATION:St Charles Borromeo Catholic Church\, 7790 S 192nd St\, Gretna\, NE\, 68028\, United States
CATEGORIES:General Meeting
END:VEVENT
BEGIN:VEVENT
DTSTART;TZID=America/Chicago:20250206T190000
DTEND;TZID=America/Chicago:20250206T210000
DTSTAMP:20260423T164831
CREATED:20250211T145902Z
LAST-MODIFIED:20250211T145902Z
UID:1464-1738868400-1738875600@kofc14077.org
SUMMARY:General Membership Meeting
DESCRIPTION:We’ll meet in the gym \nMeeting minutes
URL:https://kofc14077.org/cal/general-membership-meeting-7/
LOCATION:St Charles Borromeo Catholic Church\, 7790 S 192nd St\, Gretna\, NE\, 68028\, United States
CATEGORIES:General Meeting
END:VEVENT
BEGIN:VEVENT
DTSTART;TZID=America/Chicago:20240711T190000
DTEND;TZID=America/Chicago:20240711T203000
DTSTAMP:20260423T164831
CREATED:20240625T150115Z
LAST-MODIFIED:20240625T150315Z
UID:1400-1720724400-1720729800@kofc14077.org
SUMMARY:General Membership Meeting
DESCRIPTION:We will meet in Gym.
URL:https://kofc14077.org/cal/general-membership-meeting-6/
LOCATION:St Charles Borromeo Catholic Church\, 7790 S 192nd St\, Gretna\, NE\, 68028\, United States
CATEGORIES:General Meeting
END:VEVENT
BEGIN:VEVENT
DTSTART;TZID=America/Chicago:20240711T180000
DTEND;TZID=America/Chicago:20240711T190000
DTSTAMP:20260423T164831
CREATED:20240701T021137Z
LAST-MODIFIED:20240701T021137Z
UID:1424-1720720800-1720724400@kofc14077.org
SUMMARY:Assembly - 4th Degree Knights
DESCRIPTION:
URL:https://kofc14077.org/cal/assembly-4th-degree-knights-3/
LOCATION:St Charles Borromeo Catholic Church\, 7790 S 192nd St\, Gretna\, NE\, 68028\, United States
CATEGORIES:General Meeting
ORGANIZER;CN="Scott Kinkaid":MAILTO:scott.kinkaid19@gmail.com
END:VEVENT
BEGIN:VEVENT
DTSTART;TZID=America/Chicago:20240606T190000
DTEND;TZID=America/Chicago:20240606T210000
DTSTAMP:20260423T164831
CREATED:20240225T144929Z
LAST-MODIFIED:20240225T144929Z
UID:1379-1717700400-1717707600@kofc14077.org
SUMMARY:General Membership Meeting
DESCRIPTION:
URL:https://kofc14077.org/cal/general-membership-meeting-4/
LOCATION:St Charles Borromeo Catholic Church\, 7790 S 192nd St\, Gretna\, NE\, 68028\, United States
CATEGORIES:General Meeting
END:VEVENT
BEGIN:VEVENT
DTSTART;TZID=America/Chicago:20240502T190000
DTEND;TZID=America/Chicago:20240502T210000
DTSTAMP:20260423T164831
CREATED:20240225T144323Z
LAST-MODIFIED:20240225T144323Z
UID:1375-1714676400-1714683600@kofc14077.org
SUMMARY:General Membership Meeting
DESCRIPTION:
URL:https://kofc14077.org/cal/general-membership-meeting-3/
LOCATION:St Charles Borromeo Catholic Church\, 7790 S 192nd St\, Gretna\, NE\, 68028\, United States
CATEGORIES:General Meeting
END:VEVENT
BEGIN:VEVENT
DTSTART;TZID=America/Chicago:20240502T181500
DTEND;TZID=America/Chicago:20240502T190000
DTSTAMP:20260423T164831
CREATED:20240225T144415Z
LAST-MODIFIED:20240225T144415Z
UID:1377-1714673700-1714676400@kofc14077.org
SUMMARY:Assembly - 4th Degree Knights
DESCRIPTION:
URL:https://kofc14077.org/cal/assembly-4th-degree-knights-4/
LOCATION:St Charles Borromeo Catholic Church\, 7790 S 192nd St\, Gretna\, NE\, 68028\, United States
CATEGORIES:General Meeting
ORGANIZER;CN="Scott Kinkaid":MAILTO:scott.kinkaid19@gmail.com
END:VEVENT
BEGIN:VEVENT
DTSTART;TZID=America/Chicago:20240404T190000
DTEND;TZID=America/Chicago:20240404T210000
DTSTAMP:20260423T164831
CREATED:20240225T143927Z
LAST-MODIFIED:20240225T143927Z
UID:1371-1712257200-1712264400@kofc14077.org
SUMMARY:General Membership Meeting
DESCRIPTION:
URL:https://kofc14077.org/cal/general-membership-meeting-2/
LOCATION:St Charles Borromeo Catholic Church\, 7790 S 192nd St\, Gretna\, NE\, 68028\, United States
CATEGORIES:General Meeting
END:VEVENT
BEGIN:VEVENT
DTSTART;TZID=America/Chicago:20240307T190000
DTEND;TZID=America/Chicago:20240307T210000
DTSTAMP:20260423T164831
CREATED:20240301T023204Z
LAST-MODIFIED:20240301T023204Z
UID:1381-1709838000-1709845200@kofc14077.org
SUMMARY:General Membership Meeting
DESCRIPTION:
URL:https://kofc14077.org/cal/general-membership-meeting-5/
LOCATION:St Charles Borromeo Catholic Church\, 7790 S 192nd St\, Gretna\, NE\, 68028\, United States
CATEGORIES:General Meeting
END:VEVENT
BEGIN:VEVENT
DTSTART;TZID=America/Chicago:20240201T190000
DTEND;TZID=America/Chicago:20240201T210000
DTSTAMP:20260423T164831
CREATED:20240105T135441Z
LAST-MODIFIED:20240105T135441Z
UID:1252-1706814000-1706821200@kofc14077.org
SUMMARY:General Membership Meeting
DESCRIPTION:
URL:https://kofc14077.org/cal/general-membership-meeting/
LOCATION:NE
CATEGORIES:General Meeting
END:VEVENT
BEGIN:VEVENT
DTSTART;TZID=America/Chicago:20240104T190000
DTEND;TZID=America/Chicago:20240104T200000
DTSTAMP:20260423T164831
CREATED:20231229T025459Z
LAST-MODIFIED:20231229T025628Z
UID:1204-1704394800-1704398400@kofc14077.org
SUMMARY:Knights General Meeting
DESCRIPTION:Rosary starts @ 7pm
URL:https://kofc14077.org/cal/knights-general-meeting-4/
LOCATION:St Charles Borromeo Catholic Church\, 7790 S 192nd St\, Gretna\, NE\, 68028\, United States
CATEGORIES:General Meeting
END:VEVENT
BEGIN:VEVENT
DTSTART;TZID=America/Chicago:20240104T181500
DTEND;TZID=America/Chicago:20240104T190000
DTSTAMP:20260423T164831
CREATED:20230904T132037Z
LAST-MODIFIED:20230904T132037Z
UID:1182-1704392100-1704394800@kofc14077.org
SUMMARY:Assembly - 4th Degree Knights
DESCRIPTION:Occurs every 2 months on the 1st Thursday
URL:https://kofc14077.org/cal/assembly-4th-degree-knights-2/
LOCATION:St Charles Borromeo Catholic Church\, 7790 S 192nd St\, Gretna\, NE\, 68028\, United States
CATEGORIES:General Meeting
ORGANIZER;CN="Scott Kinkaid":MAILTO:scott.kinkaid19@gmail.com
END:VEVENT
BEGIN:VEVENT
DTSTART;TZID=America/Chicago:20231102T203000
DTEND;TZID=America/Chicago:20231102T210000
DTSTAMP:20260423T164831
CREATED:20230904T131910Z
LAST-MODIFIED:20231102T182513Z
UID:1180-1698957000-1698958800@kofc14077.org
SUMMARY:Assembly - 4th Degree Knights
DESCRIPTION:Occurs every 2 months on the 1st Thursday
URL:https://kofc14077.org/cal/assembly-4th-degree-knights/
LOCATION:St Charles Borromeo Catholic Church\, 7790 S 192nd St\, Gretna\, NE\, 68028\, United States
CATEGORIES:General Meeting
ORGANIZER;CN="Scott Kinkaid":MAILTO:scott.kinkaid19@gmail.com
END:VEVENT
BEGIN:VEVENT
DTSTART;TZID=America/Chicago:20231102T193000
DTEND;TZID=America/Chicago:20231102T203000
DTSTAMP:20260423T164831
CREATED:20230831T221217Z
LAST-MODIFIED:20231027T013133Z
UID:1173-1698953400-1698957000@kofc14077.org
SUMMARY:Knights General Meeting
DESCRIPTION:Rosary starts at 7:30pm
URL:https://kofc14077.org/cal/knights-general-meeting-3/
LOCATION:St Charles Borromeo Catholic Church\, 7790 S 192nd St\, Gretna\, NE\, 68028\, United States
CATEGORIES:General Meeting
END:VEVENT
BEGIN:VEVENT
DTSTART;TZID=America/Chicago:20231005T190000
DTEND;TZID=America/Chicago:20231005T200000
DTSTAMP:20260423T164831
CREATED:20230831T221118Z
LAST-MODIFIED:20230831T221118Z
UID:1170-1696532400-1696536000@kofc14077.org
SUMMARY:Knights General Meeting
DESCRIPTION:Rosary starts at 6:45pm
URL:https://kofc14077.org/cal/knights-general-meeting-2/
LOCATION:St Charles Borromeo Catholic Church\, 7790 S 192nd St\, Gretna\, NE\, 68028\, United States
CATEGORIES:General Meeting
END:VEVENT
BEGIN:VEVENT
DTSTART;TZID=America/Chicago:20230907T190000
DTEND;TZID=America/Chicago:20230907T200000
DTSTAMP:20260423T164831
CREATED:20230811T212359Z
LAST-MODIFIED:20230811T215152Z
UID:1141-1694113200-1694116800@kofc14077.org
SUMMARY:Knights General Meeting
DESCRIPTION:Rosary starts at 6:45pm
URL:https://kofc14077.org/cal/knights-general-meeting/
LOCATION:NE
CATEGORIES:General Meeting
END:VEVENT
BEGIN:VEVENT
DTSTART;TZID=America/Chicago:20230831T183000
DTEND;TZID=America/Chicago:20230831T190000
DTSTAMP:20260423T164831
CREATED:20230811T211152Z
LAST-MODIFIED:20230814T032445Z
UID:1134-1693506600-1693508400@kofc14077.org
SUMMARY:4th Degree Assembly
DESCRIPTION:Check your email for Google Meet invite from Scott.
URL:https://kofc14077.org/cal/4th-degree-assembly/
LOCATION:NE
CATEGORIES:General Meeting
ORGANIZER;CN="Scott Kinkaid":MAILTO:scott.kinkaid19@gmail.com
END:VEVENT
END:VCALENDAR