BEGIN:VCALENDAR
VERSION:2.0
PRODID:-//Knights of Columbus Council 14077 - ECPv6.15.20//NONSGML v1.0//EN
CALSCALE:GREGORIAN
METHOD:PUBLISH
X-WR-CALNAME:Knights of Columbus Council 14077
X-ORIGINAL-URL:https://kofc14077.org
X-WR-CALDESC:Events for Knights of Columbus Council 14077
REFRESH-INTERVAL;VALUE=DURATION:PT1H
X-Robots-Tag:noindex
X-PUBLISHED-TTL:PT1H
BEGIN:VTIMEZONE
TZID:America/Chicago
BEGIN:DAYLIGHT
TZOFFSETFROM:-0600
TZOFFSETTO:-0500
TZNAME:CDT
DTSTART:20240310T080000
END:DAYLIGHT
BEGIN:STANDARD
TZOFFSETFROM:-0500
TZOFFSETTO:-0600
TZNAME:CST
DTSTART:20241103T070000
END:STANDARD
BEGIN:DAYLIGHT
TZOFFSETFROM:-0600
TZOFFSETTO:-0500
TZNAME:CDT
DTSTART:20250309T080000
END:DAYLIGHT
BEGIN:STANDARD
TZOFFSETFROM:-0500
TZOFFSETTO:-0600
TZNAME:CST
DTSTART:20251102T070000
END:STANDARD
BEGIN:DAYLIGHT
TZOFFSETFROM:-0600
TZOFFSETTO:-0500
TZNAME:CDT
DTSTART:20260308T080000
END:DAYLIGHT
BEGIN:STANDARD
TZOFFSETFROM:-0500
TZOFFSETTO:-0600
TZNAME:CST
DTSTART:20261101T070000
END:STANDARD
BEGIN:DAYLIGHT
TZOFFSETFROM:-0600
TZOFFSETTO:-0500
TZNAME:CDT
DTSTART:20270314T080000
END:DAYLIGHT
BEGIN:STANDARD
TZOFFSETFROM:-0500
TZOFFSETTO:-0600
TZNAME:CST
DTSTART:20271107T070000
END:STANDARD
END:VTIMEZONE
BEGIN:VEVENT
DTSTART;TZID=America/Chicago:20260409T190000
DTEND;TZID=America/Chicago:20260409T210000
DTSTAMP:20260423T162850
CREATED:20260203T163823Z
LAST-MODIFIED:20260206T014425Z
UID:1586-1775761200-1775768400@kofc14077.org
SUMMARY:General Meeting and Rosary
DESCRIPTION:Meet in the gym\, proceed to the worship center for the rosary\, and afterwards back to the gym for the meeting. \nAt the conclusion of the meeting\, a meal will be provided.
URL:https://kofc14077.org/cal/general-meeting-and-rosary-3/
LOCATION:St Charles Borromeo Catholic Church\, 7790 S 192nd St\, Gretna\, NE\, 68028\, United States
END:VEVENT
BEGIN:VEVENT
DTSTART;TZID=America/Chicago:20260327T170000
DTEND;TZID=America/Chicago:20260327T203000
DTSTAMP:20260423T162850
CREATED:20260203T163336Z
LAST-MODIFIED:20260203T163336Z
UID:1582-1774630800-1774643400@kofc14077.org
SUMMARY:Lenten Fish Fry
DESCRIPTION:Taking place in the gym. \nPickup Orders Available \nVolunteering opportunities available: https://www.signupgenius.com/go/70A094BA9A82AA31-55643673-kofc#/
URL:https://kofc14077.org/cal/lenten-fish-fry-6/
LOCATION:St Charles Borromeo Catholic Church\, 7790 S 192nd St\, Gretna\, NE\, 68028\, United States
END:VEVENT
BEGIN:VEVENT
DTSTART;TZID=America/Chicago:20260326T190000
DTEND;TZID=America/Chicago:20260326T210000
DTSTAMP:20260423T162850
CREATED:20260203T170048Z
LAST-MODIFIED:20260203T170048Z
UID:1604-1774551600-1774558800@kofc14077.org
SUMMARY:Officer Meeting
DESCRIPTION:  \n  \nLook for the calendar invite with a Screenshare link
URL:https://kofc14077.org/cal/officer-meeting-8/
LOCATION:NE
CATEGORIES:Officers Meeting
END:VEVENT
BEGIN:VEVENT
DTSTART;TZID=America/Chicago:20260320T170000
DTEND;TZID=America/Chicago:20260320T203000
DTSTAMP:20260423T162850
CREATED:20260203T163249Z
LAST-MODIFIED:20260203T163249Z
UID:1580-1774026000-1774038600@kofc14077.org
SUMMARY:Lenten Fish Fry
DESCRIPTION:Taking place in the gym. \nPickup Orders Available \nVolunteering opportunities available: https://www.signupgenius.com/go/70A094BA9A82AA31-55643673-kofc#/
URL:https://kofc14077.org/cal/lenten-fish-fry-5/
LOCATION:St Charles Borromeo Catholic Church\, 7790 S 192nd St\, Gretna\, NE\, 68028\, United States
END:VEVENT
BEGIN:VEVENT
DTSTART;TZID=America/Chicago:20260313T170000
DTEND;TZID=America/Chicago:20260313T203000
DTSTAMP:20260423T162850
CREATED:20260203T163205Z
LAST-MODIFIED:20260203T163205Z
UID:1578-1773421200-1773433800@kofc14077.org
SUMMARY:Lenten Fish Fry
DESCRIPTION:Taking place in the gym. \nPickup Orders Available \nVolunteering opportunities available: https://www.signupgenius.com/go/70A094BA9A82AA31-55643673-kofc#/
URL:https://kofc14077.org/cal/lenten-fish-fry-4/
LOCATION:St Charles Borromeo Catholic Church\, 7790 S 192nd St\, Gretna\, NE\, 68028\, United States
END:VEVENT
BEGIN:VEVENT
DTSTART;TZID=America/Chicago:20260306T170000
DTEND;TZID=America/Chicago:20260306T203000
DTSTAMP:20260423T162850
CREATED:20260203T162942Z
LAST-MODIFIED:20260203T163028Z
UID:1576-1772816400-1772829000@kofc14077.org
SUMMARY:Lenten Fish Fry
DESCRIPTION:Taking place in the gym. \nPickup Orders Available \nVolunteering opportunities available: https://www.signupgenius.com/go/70A094BA9A82AA31-55643673-kofc#/
URL:https://kofc14077.org/cal/lenten-fish-fry-3/
LOCATION:St Charles Borromeo Catholic Church\, 7790 S 192nd St\, Gretna\, NE\, 68028\, United States
END:VEVENT
BEGIN:VEVENT
DTSTART;TZID=America/Chicago:20260305T181500
DTEND;TZID=America/Chicago:20260305T190000
DTSTAMP:20260423T162850
CREATED:20260203T171150Z
LAST-MODIFIED:20260203T233836Z
UID:1624-1772734500-1772737200@kofc14077.org
SUMMARY:4th Degree Assembly Meeting
DESCRIPTION:  \nBefore the General Assembly meeting every other month.
URL:https://kofc14077.org/cal/officer-meeting-13/
LOCATION:St Charles Borromeo Catholic Church\, 7790 S 192nd St\, Gretna\, NE\, 68028\, United States
CATEGORIES:Officers Meeting
ORGANIZER;CN="Jim Bisenius":MAILTO:jimb5660kc@gmail.com
END:VEVENT
BEGIN:VEVENT
DTSTART;TZID=America/Chicago:20260305T070000
DTEND;TZID=America/Chicago:20260305T210000
DTSTAMP:20260423T162850
CREATED:20260203T163710Z
LAST-MODIFIED:20260203T163710Z
UID:1584-1772694000-1772744400@kofc14077.org
SUMMARY:General Meeting and Rosary
DESCRIPTION:Meet in the gym\, proceed to the worship center for the rosary\, and afterwards back to the gym for the meeting. \nAt the conclusion of the meeting\, a meal will be provided.
URL:https://kofc14077.org/cal/general-meeting-and-rosary-2/
LOCATION:St Charles Borromeo Catholic Church\, 7790 S 192nd St\, Gretna\, NE\, 68028\, United States
CATEGORIES:General Meeting
END:VEVENT
BEGIN:VEVENT
DTSTART;TZID=America/Chicago:20260227T170000
DTEND;TZID=America/Chicago:20260227T203000
DTSTAMP:20260423T162850
CREATED:20260203T162749Z
LAST-MODIFIED:20260203T162749Z
UID:1574-1772211600-1772224200@kofc14077.org
SUMMARY:Lenten Fish Fry
DESCRIPTION:Taking place in the gym. \nPickup Orders Available \nVolunteering opportunities available: https://www.signupgenius.com/go/70A094BA9A82AA31-55643673-kofc#/
URL:https://kofc14077.org/cal/lenten-fish-fry-2/
LOCATION:St Charles Borromeo Catholic Church\, 7790 S 192nd St\, Gretna\, NE\, 68028\, United States
END:VEVENT
BEGIN:VEVENT
DTSTART;TZID=America/Chicago:20260226T190000
DTEND;TZID=America/Chicago:20260226T210000
DTSTAMP:20260423T162850
CREATED:20260203T165142Z
LAST-MODIFIED:20260203T165142Z
UID:1605-1772132400-1772139600@kofc14077.org
SUMMARY:Officer Meeting
DESCRIPTION:  \nLook for the calendar invite with a Screenshare link
URL:https://kofc14077.org/cal/officer-meeting-7/
LOCATION:NE
CATEGORIES:Officers Meeting
END:VEVENT
BEGIN:VEVENT
DTSTART;TZID=America/Chicago:20260220T170000
DTEND;TZID=America/Chicago:20260220T203000
DTSTAMP:20260423T162850
CREATED:20260203T162513Z
LAST-MODIFIED:20260203T162513Z
UID:1571-1771606800-1771619400@kofc14077.org
SUMMARY:Lenten Fish Fry
DESCRIPTION:Taking place in the gym. \nPickup Orders Available \nVolunteering opportunities available: https://www.signupgenius.com/go/70A094BA9A82AA31-55643673-kofc#/
URL:https://kofc14077.org/cal/lenten-fish-fry/
LOCATION:St Charles Borromeo Catholic Church\, 7790 S 192nd St\, Gretna\, NE\, 68028\, United States
CATEGORIES:Activity
END:VEVENT
BEGIN:VEVENT
DTSTART;VALUE=DATE:20260218
DTEND;VALUE=DATE:20260219
DTSTAMP:20260423T162850
CREATED:20260203T153334Z
LAST-MODIFIED:20260203T153334Z
UID:1569-1771372800-1771459199@kofc14077.org
SUMMARY:Lent Begins
DESCRIPTION:
URL:https://kofc14077.org/cal/lent-begins/
LOCATION:St Charles Borromeo Catholic Church\, 7790 S 192nd St\, Gretna\, NE\, 68028\, United States
END:VEVENT
BEGIN:VEVENT
DTSTART;TZID=America/Chicago:20260207T070000
DTEND;TZID=America/Chicago:20260207T170000
DTSTAMP:20260423T162850
CREATED:20260205T145856Z
LAST-MODIFIED:20260205T145856Z
UID:1637-1770447600-1770483600@kofc14077.org
SUMMARY:Cleaning the Kitchen
DESCRIPTION:In prepration of the upcoming Lenten Fish Fries
URL:https://kofc14077.org/cal/cleaning-the-kitchen/
LOCATION:St Charles Borromeo Catholic Church\, 7790 S 192nd St\, Gretna\, NE\, 68028\, United States
END:VEVENT
BEGIN:VEVENT
DTSTART;TZID=America/Chicago:20260205T190000
DTEND;TZID=America/Chicago:20260205T210000
DTSTAMP:20260423T162850
CREATED:20260203T152204Z
LAST-MODIFIED:20260205T150244Z
UID:1563-1770318000-1770325200@kofc14077.org
SUMMARY:General Meeting and Rosary
DESCRIPTION:Meet in the gym\, move to the worship center for the rosary\, and back to the gym for the meeting. Refreshments will be served after the meeting.
URL:https://kofc14077.org/cal/general-meeting-and-rosary/
LOCATION:St Charles Borromeo Catholic Church\, 7790 S 192nd St\, Gretna\, NE\, 68028\, United States
CATEGORIES:General Meeting
END:VEVENT
BEGIN:VEVENT
DTSTART;TZID=America/Chicago:20260205T181500
DTEND;TZID=America/Chicago:20260205T185500
DTSTAMP:20260423T162850
CREATED:20260203T152933Z
LAST-MODIFIED:20260205T150104Z
UID:1567-1770315300-1770317700@kofc14077.org
SUMMARY:Degree Ceremony - postponed
DESCRIPTION:for February no confirmed participants
URL:https://kofc14077.org/cal/degree-ceremony-2/
LOCATION:St Charles Borromeo Catholic Church\, 7790 S 192nd St\, Gretna\, NE\, 68028\, United States
CATEGORIES:Activity
END:VEVENT
BEGIN:VEVENT
DTSTART;TZID=America/Chicago:20251207T100000
DTEND;TZID=America/Chicago:20251207T123000
DTSTAMP:20260423T162850
CREATED:20240930T181424Z
LAST-MODIFIED:20240930T181424Z
UID:1448-1765101600-1765110600@kofc14077.org
SUMMARY:Pancake Breakfast
DESCRIPTION:
URL:https://kofc14077.org/cal/pancake-breakfast-7/
LOCATION:St Charles Borromeo Catholic Church\, 7790 S 192nd St\, Gretna\, NE\, 68028\, United States
CATEGORIES:Activity
END:VEVENT
BEGIN:VEVENT
DTSTART;TZID=America/Chicago:20251106T190000
DTEND;TZID=America/Chicago:20251106T210000
DTSTAMP:20260423T162850
CREATED:20250802T160900Z
LAST-MODIFIED:20250802T160900Z
UID:1516-1762455600-1762462800@kofc14077.org
SUMMARY:General Assembly Meeting and Rosary
DESCRIPTION:Meet in the gym\, proceed to the sanctuary for the rosary\, then back to the gym to proceed. \nFood will be provided upon conclusion of the meeting.
URL:https://kofc14077.org/cal/general-assembly-meeting-and-rosary-4/
LOCATION:St Charles Borromeo Catholic Church\, 7790 S 192nd St\, Gretna\, NE\, 68028\, United States
CATEGORIES:General Meeting
END:VEVENT
BEGIN:VEVENT
DTSTART;TZID=America/Chicago:20251030T190000
DTEND;TZID=America/Chicago:20251030T210000
DTSTAMP:20260423T162850
CREATED:20250802T161428Z
LAST-MODIFIED:20250802T161428Z
UID:1521-1761850800-1761858000@kofc14077.org
SUMMARY:Officer Meeting
DESCRIPTION:Watch for an email with a link for the Zoom meeting
URL:https://kofc14077.org/cal/officer-meeting-6/
LOCATION:St Charles Borromeo Catholic Church\, 7790 S 192nd St\, Gretna\, NE\, 68028\, United States
END:VEVENT
BEGIN:VEVENT
DTSTART;TZID=America/Chicago:20251002T190000
DTEND;TZID=America/Chicago:20251002T210000
DTSTAMP:20260423T162850
CREATED:20250802T160748Z
LAST-MODIFIED:20250802T160748Z
UID:1514-1759431600-1759438800@kofc14077.org
SUMMARY:General Assembly Meeting and Rosary
DESCRIPTION:Meet in the gym\, proceed to the sanctuary for the rosary\, then back to the gym to proceed. \nFood will be provided upon conclusion of the meeting.
URL:https://kofc14077.org/cal/general-assembly-meeting-and-rosary-3/
LOCATION:St Charles Borromeo Catholic Church\, 7790 S 192nd St\, Gretna\, NE\, 68028\, United States
CATEGORIES:General Meeting
END:VEVENT
BEGIN:VEVENT
DTSTART;TZID=America/Chicago:20250925T190000
DTEND;TZID=America/Chicago:20250925T210000
DTSTAMP:20260423T162850
CREATED:20250802T161342Z
LAST-MODIFIED:20250802T161342Z
UID:1518-1758826800-1758834000@kofc14077.org
SUMMARY:Officer Meeting
DESCRIPTION:Watch for an email with a link for the Zoom meeting
URL:https://kofc14077.org/cal/officer-meeting-5/
LOCATION:St Charles Borromeo Catholic Church\, 7790 S 192nd St\, Gretna\, NE\, 68028\, United States
CATEGORIES:Officers Meeting
END:VEVENT
BEGIN:VEVENT
DTSTART;TZID=America/Chicago:20250904T190000
DTEND;TZID=America/Chicago:20250904T210000
DTSTAMP:20260423T162850
CREATED:20250802T160641Z
LAST-MODIFIED:20250802T160641Z
UID:1512-1757012400-1757019600@kofc14077.org
SUMMARY:General Assembly Meeting and Rosary
DESCRIPTION:Meet in the gym\, proceed to the sanctuary for the rosary\, then back to the gym to proceed. \nFood will be provided upon conclusion of the meeting.
URL:https://kofc14077.org/cal/general-assembly-meeting-and-rosary-2/
LOCATION:St Charles Borromeo Catholic Church\, 7790 S 192nd St\, Gretna\, NE\, 68028\, United States
CATEGORIES:General Meeting
END:VEVENT
BEGIN:VEVENT
DTSTART;TZID=America/Chicago:20250828T190000
DTEND;TZID=America/Chicago:20250828T210000
DTSTAMP:20260423T162850
CREATED:20250422T212859Z
LAST-MODIFIED:20250802T161230Z
UID:1490-1756407600-1756414800@kofc14077.org
SUMMARY:Officer Meeting
DESCRIPTION:Watch for an email with a link for the Zoom meeting
URL:https://kofc14077.org/cal/officer-meeting-4/
LOCATION:St Charles Borromeo Catholic Church\, 7790 S 192nd St\, Gretna\, NE\, 68028\, United States
CATEGORIES:Officers Meeting
END:VEVENT
BEGIN:VEVENT
DTSTART;TZID=America/Chicago:20250823T180000
DTEND;TZID=America/Chicago:20250823T220000
DTSTAMP:20260423T162850
CREATED:20250802T162521Z
LAST-MODIFIED:20250802T162521Z
UID:1523-1755972000-1755986400@kofc14077.org
SUMMARY:Millard Days Volunteers needed
DESCRIPTION:If you are able to help\, please email Mike Matukewicz at mmatukewicz@liakoslaw.com or call at 402-290-1572
URL:https://kofc14077.org/cal/millard-days-volunteers-needed/
LOCATION:NE
END:VEVENT
BEGIN:VEVENT
DTSTART;TZID=America/Chicago:20250817T100000
DTEND;TZID=America/Chicago:20250817T123000
DTSTAMP:20260423T162850
CREATED:20240930T181334Z
LAST-MODIFIED:20240930T181334Z
UID:1446-1755424800-1755433800@kofc14077.org
SUMMARY:Pancake Breakfast
DESCRIPTION:
URL:https://kofc14077.org/cal/pancake-breakfast-6/
LOCATION:St Charles Borromeo Catholic Church\, 7790 S 192nd St\, Gretna\, NE\, 68028\, United States
CATEGORIES:Activity
END:VEVENT
BEGIN:VEVENT
DTSTART;TZID=America/Chicago:20250807T190000
DTEND;TZID=America/Chicago:20250807T210000
DTSTAMP:20260423T162850
CREATED:20250802T160207Z
LAST-MODIFIED:20250802T160207Z
UID:1510-1754593200-1754600400@kofc14077.org
SUMMARY:General Assembly Meeting and Rosary
DESCRIPTION:Meet in the gym\, proceed to the sanctuary for the rosary\, then back to the gym to proceed. \nFood will be provided upon conclusion of the meeting.
URL:https://kofc14077.org/cal/general-assembly-meeting-and-rosary/
LOCATION:St Charles Borromeo Catholic Church\, 7790 S 192nd St\, Gretna\, NE\, 68028\, United States
CATEGORIES:General Meeting
END:VEVENT
BEGIN:VEVENT
DTSTART;TZID=America/Chicago:20250710T190000
DTEND;TZID=America/Chicago:20250710T210000
DTSTAMP:20260423T162850
CREATED:20250422T212740Z
LAST-MODIFIED:20250502T011100Z
UID:1488-1752174000-1752181200@kofc14077.org
SUMMARY:General Meeting
DESCRIPTION:
URL:https://kofc14077.org/cal/tentative-general-meeting/
LOCATION:St Charles Borromeo Catholic Church\, 7790 S 192nd St\, Gretna\, NE\, 68028\, United States
ORGANIZER;CN="Kent Sona":MAILTO:KentSona@gmail.com
END:VEVENT
BEGIN:VEVENT
DTSTART;TZID=America/Chicago:20250626T190000
DTEND;TZID=America/Chicago:20250626T210000
DTSTAMP:20260423T162850
CREATED:20250422T211815Z
LAST-MODIFIED:20250422T211815Z
UID:1486-1750964400-1750971600@kofc14077.org
SUMMARY:Officer Meeting
DESCRIPTION:
URL:https://kofc14077.org/cal/officer-meeting-3/
LOCATION:St Charles Borromeo Catholic Church\, 7790 S 192nd St\, Gretna\, NE\, 68028\, United States
ORGANIZER;CN="Kent Sona":MAILTO:KentSona@gmail.com
END:VEVENT
BEGIN:VEVENT
DTSTART;TZID=America/Chicago:20250605T190000
DTEND;TZID=America/Chicago:20250605T210000
DTSTAMP:20260423T162850
CREATED:20250422T211622Z
LAST-MODIFIED:20250422T211647Z
UID:1483-1749150000-1749157200@kofc14077.org
SUMMARY:General Membership Meeting
DESCRIPTION:
URL:https://kofc14077.org/cal/general-meeting/
LOCATION:St Charles Borromeo Catholic Church\, 7790 S 192nd St\, Gretna\, NE\, 68028\, United States
ORGANIZER;CN="Kent Sona":MAILTO:KentSona@gmail.com
END:VEVENT
BEGIN:VEVENT
DTSTART;TZID=America/Chicago:20250529T190000
DTEND;TZID=America/Chicago:20250529T210000
DTSTAMP:20260423T162850
CREATED:20250422T211519Z
LAST-MODIFIED:20250422T211730Z
UID:1481-1748545200-1748552400@kofc14077.org
SUMMARY:Officer Meeting
DESCRIPTION:
URL:https://kofc14077.org/cal/officer-meeting-2/
LOCATION:St Charles Borromeo Catholic Church\, 7790 S 192nd St\, Gretna\, NE\, 68028\, United States
ORGANIZER;CN="Kent Sona":MAILTO:KentSona@gmail.com
END:VEVENT
BEGIN:VEVENT
DTSTART;TZID=America/Chicago:20250518T100000
DTEND;TZID=America/Chicago:20250518T123000
DTSTAMP:20260423T162850
CREATED:20240930T180900Z
LAST-MODIFIED:20240930T180900Z
UID:1444-1747562400-1747571400@kofc14077.org
SUMMARY:Pancake Breakfast
DESCRIPTION:
URL:https://kofc14077.org/cal/pancake-breakfast-5/
LOCATION:St Charles Borromeo Catholic Church\, 7790 S 192nd St\, Gretna\, NE\, 68028\, United States
CATEGORIES:Activity
END:VEVENT
END:VCALENDAR