BEGIN:VCALENDAR
VERSION:2.0
PRODID:-//Knights of Columbus Council 14077 - ECPv6.15.20//NONSGML v1.0//EN
CALSCALE:GREGORIAN
METHOD:PUBLISH
X-WR-CALNAME:Knights of Columbus Council 14077
X-ORIGINAL-URL:https://kofc14077.org
X-WR-CALDESC:Events for Knights of Columbus Council 14077
REFRESH-INTERVAL;VALUE=DURATION:PT1H
X-Robots-Tag:noindex
X-PUBLISHED-TTL:PT1H
BEGIN:VTIMEZONE
TZID:America/Chicago
BEGIN:DAYLIGHT
TZOFFSETFROM:-0600
TZOFFSETTO:-0500
TZNAME:CDT
DTSTART:20250309T080000
END:DAYLIGHT
BEGIN:STANDARD
TZOFFSETFROM:-0500
TZOFFSETTO:-0600
TZNAME:CST
DTSTART:20251102T070000
END:STANDARD
BEGIN:DAYLIGHT
TZOFFSETFROM:-0600
TZOFFSETTO:-0500
TZNAME:CDT
DTSTART:20260308T080000
END:DAYLIGHT
BEGIN:STANDARD
TZOFFSETFROM:-0500
TZOFFSETTO:-0600
TZNAME:CST
DTSTART:20261101T070000
END:STANDARD
BEGIN:DAYLIGHT
TZOFFSETFROM:-0600
TZOFFSETTO:-0500
TZNAME:CDT
DTSTART:20270314T080000
END:DAYLIGHT
BEGIN:STANDARD
TZOFFSETFROM:-0500
TZOFFSETTO:-0600
TZNAME:CST
DTSTART:20271107T070000
END:STANDARD
BEGIN:DAYLIGHT
TZOFFSETFROM:-0600
TZOFFSETTO:-0500
TZNAME:CDT
DTSTART:20280312T080000
END:DAYLIGHT
BEGIN:STANDARD
TZOFFSETFROM:-0500
TZOFFSETTO:-0600
TZNAME:CST
DTSTART:20281105T070000
END:STANDARD
END:VTIMEZONE
BEGIN:VEVENT
DTSTART;TZID=America/Chicago:20260430T190000
DTEND;TZID=America/Chicago:20260430T210000
DTSTAMP:20260423T115439
CREATED:20260203T170239Z
LAST-MODIFIED:20260203T170239Z
UID:1608-1777575600-1777582800@kofc14077.org
SUMMARY:Officer Meeting
DESCRIPTION:Look for the calendar invite with a Screenshare link
URL:https://kofc14077.org/cal/officer-meeting-9/
LOCATION:St Charles Borromeo Catholic Church\, 7790 S 192nd St\, Gretna\, NE\, 68028\, United States
CATEGORIES:Officers Meeting
END:VEVENT
BEGIN:VEVENT
DTSTART;TZID=America/Chicago:20260507T080000
DTEND;TZID=America/Chicago:20260507T170000
DTSTAMP:20260423T115439
CREATED:20260203T163946Z
LAST-MODIFIED:20260203T163946Z
UID:1588-1778140800-1778173200@kofc14077.org
SUMMARY:General Meeting and Rosary
DESCRIPTION:Meet in the gym\, proceed to the worship center for the rosary\, and afterwards back to the gym for the meeting. \nAt the conclusion of the meeting\, a meal will be provided.
URL:https://kofc14077.org/cal/general-meeting-and-rosary-4/
LOCATION:St Charles Borromeo Catholic Church\, 7790 S 192nd St\, Gretna\, NE\, 68028\, United States
CATEGORIES:General Meeting
END:VEVENT
BEGIN:VEVENT
DTSTART;TZID=America/Chicago:20260507T181500
DTEND;TZID=America/Chicago:20260507T190000
DTSTAMP:20260423T115439
CREATED:20260203T234152Z
LAST-MODIFIED:20260203T234152Z
UID:1629-1778177700-1778180400@kofc14077.org
SUMMARY:4th Degree Assembly Meeting
DESCRIPTION:  \nBefore the General Assembly meeting every other month.
URL:https://kofc14077.org/cal/4th-degree-assembly-meeting/
LOCATION:St Charles Borromeo Catholic Church\, 7790 S 192nd St\, Gretna\, NE\, 68028\, United States
ORGANIZER;CN="Jim Bisenius":MAILTO:jimb5660kc@gmail.com
END:VEVENT
BEGIN:VEVENT
DTSTART;TZID=America/Chicago:20260528T190000
DTEND;TZID=America/Chicago:20260528T210000
DTSTAMP:20260423T115439
CREATED:20260203T170413Z
LAST-MODIFIED:20260203T170413Z
UID:1612-1779994800-1780002000@kofc14077.org
SUMMARY:Officer Meeting
DESCRIPTION:Look for the calendar invite with a Screenshare link
URL:https://kofc14077.org/cal/officer-meeting-10/
LOCATION:NE
CATEGORIES:Officers Meeting
END:VEVENT
BEGIN:VEVENT
DTSTART;TZID=America/Chicago:20260604T190000
DTEND;TZID=America/Chicago:20260604T210000
DTSTAMP:20260423T115439
CREATED:20260203T164056Z
LAST-MODIFIED:20260203T164056Z
UID:1590-1780599600-1780606800@kofc14077.org
SUMMARY:General Meeting and Rosary
DESCRIPTION:Meet in the gym\, proceed to the worship center for the rosary\, and afterwards back to the gym for the meeting. \nAt the conclusion of the meeting\, a meal will be provided.
URL:https://kofc14077.org/cal/general-meeting-and-rosary-5/
LOCATION:St Charles Borromeo Catholic Church\, 7790 S 192nd St\, Gretna\, NE\, 68028\, United States
CATEGORIES:General Meeting
END:VEVENT
BEGIN:VEVENT
DTSTART;TZID=America/Chicago:20260625T190000
DTEND;TZID=America/Chicago:20260625T210000
DTSTAMP:20260423T115439
CREATED:20260203T170449Z
LAST-MODIFIED:20260203T170449Z
UID:1614-1782414000-1782421200@kofc14077.org
SUMMARY:Officer Meeting
DESCRIPTION:Look for the calendar invite with a Screenshare link
URL:https://kofc14077.org/cal/officer-meeting-11/
LOCATION:NE
CATEGORIES:Officers Meeting
END:VEVENT
BEGIN:VEVENT
DTSTART;TZID=America/Chicago:20260702T181500
DTEND;TZID=America/Chicago:20260702T190000
DTSTAMP:20260423T115439
CREATED:20260203T234355Z
LAST-MODIFIED:20260203T234355Z
UID:1631-1783016100-1783018800@kofc14077.org
SUMMARY:4th Degree Assembly Meeting
DESCRIPTION:  \nBefore the General Assembly meeting every other month.
URL:https://kofc14077.org/cal/4th-degree-assembly-meeting-2/
LOCATION:St Charles Borromeo Catholic Church\, 7790 S 192nd St\, Gretna\, NE\, 68028\, United States
ORGANIZER;CN="Jim Bisenius":MAILTO:jimb5660kc@gmail.com
END:VEVENT
BEGIN:VEVENT
DTSTART;TZID=America/Chicago:20260702T190000
DTEND;TZID=America/Chicago:20260702T210000
DTSTAMP:20260423T115439
CREATED:20260203T164154Z
LAST-MODIFIED:20260203T164154Z
UID:1592-1783018800-1783026000@kofc14077.org
SUMMARY:General Meeting and Rosary
DESCRIPTION:Meet in the gym\, proceed to the worship center for the rosary\, and afterwards back to the gym for the meeting. \nAt the conclusion of the meeting\, a meal will be provided.
URL:https://kofc14077.org/cal/general-meeting-and-rosary-6/
LOCATION:St Charles Borromeo Catholic Church\, 7790 S 192nd St\, Gretna\, NE\, 68028\, United States
CATEGORIES:General Meeting
END:VEVENT
BEGIN:VEVENT
DTSTART;TZID=America/Chicago:20260730T190000
DTEND;TZID=America/Chicago:20260730T210000
DTSTAMP:20260423T115439
CREATED:20260203T170528Z
LAST-MODIFIED:20260203T170528Z
UID:1616-1785438000-1785445200@kofc14077.org
SUMMARY:Officer Meeting
DESCRIPTION:Look for the calendar invite with a Screenshare link
URL:https://kofc14077.org/cal/officer-meeting-12/
LOCATION:NE
CATEGORIES:Officers Meeting
END:VEVENT
BEGIN:VEVENT
DTSTART;TZID=America/Chicago:20260806T190000
DTEND;TZID=America/Chicago:20260806T210000
DTSTAMP:20260423T115439
CREATED:20260203T164240Z
LAST-MODIFIED:20260203T164240Z
UID:1594-1786042800-1786050000@kofc14077.org
SUMMARY:General Meeting and Rosary
DESCRIPTION:Meet in the gym\, proceed to the worship center for the rosary\, and afterwards back to the gym for the meeting. \nAt the conclusion of the meeting\, a meal will be provided.
URL:https://kofc14077.org/cal/general-meeting-and-rosary-7/
LOCATION:St Charles Borromeo Catholic Church\, 7790 S 192nd St\, Gretna\, NE\, 68028\, United States
END:VEVENT
BEGIN:VEVENT
DTSTART;TZID=America/Chicago:20260827T190000
DTEND;TZID=America/Chicago:20260827T210000
DTSTAMP:20260423T115439
CREATED:20260203T170645Z
LAST-MODIFIED:20260203T170645Z
UID:1620-1787857200-1787864400@kofc14077.org
SUMMARY:Officer Meeting
DESCRIPTION:Look for the calendar invite with a Screenshare link
URL:https://kofc14077.org/cal/officer-meeting-14/
LOCATION:NE
CATEGORIES:Officers Meeting
END:VEVENT
BEGIN:VEVENT
DTSTART;TZID=America/Chicago:20260903T181500
DTEND;TZID=America/Chicago:20260903T190000
DTSTAMP:20260423T115439
CREATED:20260203T234549Z
LAST-MODIFIED:20260203T234549Z
UID:1633-1788459300-1788462000@kofc14077.org
SUMMARY:4th Degree Assembly Meeting
DESCRIPTION:  \n  \nBefore the General Assembly meeting every other month.
URL:https://kofc14077.org/cal/4th-degree-assembly-meeting-3/
LOCATION:St Charles Borromeo Catholic Church\, 7790 S 192nd St\, Gretna\, NE\, 68028\, United States
ORGANIZER;CN="Jim Bisenius":MAILTO:jimb5660kc@gmail.com
END:VEVENT
BEGIN:VEVENT
DTSTART;TZID=America/Chicago:20260903T190000
DTEND;TZID=America/Chicago:20260903T210000
DTSTAMP:20260423T115439
CREATED:20260203T164335Z
LAST-MODIFIED:20260203T164335Z
UID:1596-1788462000-1788469200@kofc14077.org
SUMMARY:General Meeting and Rosary
DESCRIPTION:Meet in the gym\, proceed to the worship center for the rosary\, and afterwards back to the gym for the meeting. \nAt the conclusion of the meeting\, a meal will be provided.
URL:https://kofc14077.org/cal/general-meeting-and-rosary-8/
LOCATION:St Charles Borromeo Catholic Church\, 7790 S 192nd St\, Gretna\, NE\, 68028\, United States
CATEGORIES:General Meeting
END:VEVENT
BEGIN:VEVENT
DTSTART;TZID=America/Chicago:20260924T190000
DTEND;TZID=America/Chicago:20260924T210000
DTSTAMP:20260423T115439
CREATED:20260203T170810Z
LAST-MODIFIED:20260203T170810Z
UID:1622-1790276400-1790283600@kofc14077.org
SUMMARY:Officer Meeting
DESCRIPTION:  \nLook for the calendar invite with a Screenshare link
URL:https://kofc14077.org/cal/officer-meeting-15/
LOCATION:NE
CATEGORIES:Officers Meeting
END:VEVENT
BEGIN:VEVENT
DTSTART;TZID=America/Chicago:20261001T190000
DTEND;TZID=America/Chicago:20261001T210000
DTSTAMP:20260423T115439
CREATED:20260203T164429Z
LAST-MODIFIED:20260203T164429Z
UID:1598-1790881200-1790888400@kofc14077.org
SUMMARY:General Meeting and Rosary
DESCRIPTION:Meet in the gym\, proceed to the worship center for the rosary\, and afterwards back to the gym for the meeting. \nAt the conclusion of the meeting\, a meal will be provided.
URL:https://kofc14077.org/cal/general-meeting-and-rosary-9/
LOCATION:St Charles Borromeo Catholic Church\, 7790 S 192nd St\, Gretna\, NE\, 68028\, United States
CATEGORIES:General Meeting
END:VEVENT
BEGIN:VEVENT
DTSTART;TZID=America/Chicago:20261105T181500
DTEND;TZID=America/Chicago:20261105T190000
DTSTAMP:20260423T115439
CREATED:20260203T234652Z
LAST-MODIFIED:20260203T234652Z
UID:1635-1793902500-1793905200@kofc14077.org
SUMMARY:4th Degree Assembly Meeting
DESCRIPTION:  \nBefore the General Assembly meeting every other month.
URL:https://kofc14077.org/cal/4th-degree-assembly-meeting-4/
LOCATION:St Charles Borromeo Catholic Church\, 7790 S 192nd St\, Gretna\, NE\, 68028\, United States
ORGANIZER;CN="Jim Bisenius":MAILTO:jimb5660kc@gmail.com
END:VEVENT
BEGIN:VEVENT
DTSTART;TZID=America/Chicago:20261105T190000
DTEND;TZID=America/Chicago:20261105T210000
DTSTAMP:20260423T115439
CREATED:20260203T164524Z
LAST-MODIFIED:20260203T164524Z
UID:1600-1793905200-1793912400@kofc14077.org
SUMMARY:General Meeting and Rosary
DESCRIPTION:Meet in the gym\, proceed to the worship center for the rosary\, and afterwards back to the gym for the meeting. \nAt the conclusion of the meeting\, a meal will be provided.
URL:https://kofc14077.org/cal/general-meeting-and-rosary-10/
LOCATION:St Charles Borromeo Catholic Church\, 7790 S 192nd St\, Gretna\, NE\, 68028\, United States
CATEGORIES:General Meeting
END:VEVENT
BEGIN:VEVENT
DTSTART;TZID=America/Chicago:20270107T190000
DTEND;TZID=America/Chicago:20270107T210000
DTSTAMP:20260423T115439
CREATED:20260203T164710Z
LAST-MODIFIED:20260203T164710Z
UID:1602-1799348400-1799355600@kofc14077.org
SUMMARY:General Meeting and Rosary
DESCRIPTION:Meet in the gym\, proceed to the worship center for the rosary\, and afterwards back to the gym for the meeting. \nAt the conclusion of the meeting\, a meal will be provided.
URL:https://kofc14077.org/cal/general-meeting-and-rosary-11/
LOCATION:St Charles Borromeo Catholic Church\, 7790 S 192nd St\, Gretna\, NE\, 68028\, United States
CATEGORIES:General Meeting
END:VEVENT
END:VCALENDAR