BEGIN:VCALENDAR
VERSION:2.0
PRODID:-//Knights of Columbus Council 14077 - ECPv6.15.20//NONSGML v1.0//EN
CALSCALE:GREGORIAN
METHOD:PUBLISH
X-WR-CALNAME:Knights of Columbus Council 14077
X-ORIGINAL-URL:https://kofc14077.org
X-WR-CALDESC:Events for Knights of Columbus Council 14077
REFRESH-INTERVAL;VALUE=DURATION:PT1H
X-Robots-Tag:noindex
X-PUBLISHED-TTL:PT1H
BEGIN:VTIMEZONE
TZID:America/Chicago
BEGIN:DAYLIGHT
TZOFFSETFROM:-0600
TZOFFSETTO:-0500
TZNAME:CDT
DTSTART:20220313T080000
END:DAYLIGHT
BEGIN:STANDARD
TZOFFSETFROM:-0500
TZOFFSETTO:-0600
TZNAME:CST
DTSTART:20221106T070000
END:STANDARD
BEGIN:DAYLIGHT
TZOFFSETFROM:-0600
TZOFFSETTO:-0500
TZNAME:CDT
DTSTART:20230312T080000
END:DAYLIGHT
BEGIN:STANDARD
TZOFFSETFROM:-0500
TZOFFSETTO:-0600
TZNAME:CST
DTSTART:20231105T070000
END:STANDARD
BEGIN:DAYLIGHT
TZOFFSETFROM:-0600
TZOFFSETTO:-0500
TZNAME:CDT
DTSTART:20240310T080000
END:DAYLIGHT
BEGIN:STANDARD
TZOFFSETFROM:-0500
TZOFFSETTO:-0600
TZNAME:CST
DTSTART:20241103T070000
END:STANDARD
BEGIN:DAYLIGHT
TZOFFSETFROM:-0600
TZOFFSETTO:-0500
TZNAME:CDT
DTSTART:20250309T080000
END:DAYLIGHT
BEGIN:STANDARD
TZOFFSETFROM:-0500
TZOFFSETTO:-0600
TZNAME:CST
DTSTART:20251102T070000
END:STANDARD
END:VTIMEZONE
BEGIN:VEVENT
DTSTART;TZID=America/Chicago:20240308T160000
DTEND;TZID=America/Chicago:20240308T220000
DTSTAMP:20260425T102520
CREATED:20240111T184346Z
LAST-MODIFIED:20240111T184346Z
UID:1273-1709913600-1709935200@kofc14077.org
SUMMARY:Fish Fry
DESCRIPTION:
URL:https://kofc14077.org/cal/fish-fry-4/
LOCATION:St Charles Borromeo Catholic Church\, 7790 S 192nd St\, Gretna\, NE\, 68028\, United States
CATEGORIES:Activity
END:VEVENT
BEGIN:VEVENT
DTSTART;TZID=America/Chicago:20240307T190000
DTEND;TZID=America/Chicago:20240307T210000
DTSTAMP:20260425T102520
CREATED:20240301T023204Z
LAST-MODIFIED:20240301T023204Z
UID:1381-1709838000-1709845200@kofc14077.org
SUMMARY:General Membership Meeting
DESCRIPTION:
URL:https://kofc14077.org/cal/general-membership-meeting-5/
LOCATION:St Charles Borromeo Catholic Church\, 7790 S 192nd St\, Gretna\, NE\, 68028\, United States
CATEGORIES:General Meeting
END:VEVENT
BEGIN:VEVENT
DTSTART;TZID=America/Chicago:20240307T163000
DTEND;TZID=America/Chicago:20240307T190000
DTSTAMP:20260425T102520
CREATED:20240111T184002Z
LAST-MODIFIED:20240111T184002Z
UID:1271-1709829000-1709838000@kofc14077.org
SUMMARY:Fish Fry Set up
DESCRIPTION:
URL:https://kofc14077.org/cal/fish-fry-set-up-4/
LOCATION:St Charles Borromeo Catholic Church\, 7790 S 192nd St\, Gretna\, NE\, 68028\, United States
CATEGORIES:Activity
END:VEVENT
BEGIN:VEVENT
DTSTART;VALUE=DATE:20240303
DTEND;VALUE=DATE:20240304
DTSTAMP:20260425T102520
CREATED:20240105T045258Z
LAST-MODIFIED:20240223T145053Z
UID:1250-1709424000-1709510399@kofc14077.org
SUMMARY:Free Throw Championship - District
DESCRIPTION:
URL:https://kofc14077.org/cal/free-throw-championship-district/
LOCATION:St Charles Borromeo Catholic Church\, 7790 S 192nd St\, Gretna\, NE\, 68028\, United States
CATEGORIES:Activity
END:VEVENT
BEGIN:VEVENT
DTSTART;TZID=America/Chicago:20240301T160000
DTEND;TZID=America/Chicago:20240301T220000
DTSTAMP:20260425T102520
CREATED:20240111T183711Z
LAST-MODIFIED:20240111T183711Z
UID:1268-1709308800-1709330400@kofc14077.org
SUMMARY:Fish Fry
DESCRIPTION:
URL:https://kofc14077.org/cal/fish-fry-3/
LOCATION:St Charles Borromeo Catholic Church\, 7790 S 192nd St\, Gretna\, NE\, 68028\, United States
END:VEVENT
BEGIN:VEVENT
DTSTART;TZID=America/Chicago:20240229T190000
DTEND;TZID=America/Chicago:20240229T200000
DTSTAMP:20260425T102520
CREATED:20240105T183206Z
LAST-MODIFIED:20240105T183206Z
UID:1254-1709233200-1709236800@kofc14077.org
SUMMARY:Council Officer's Meeting
DESCRIPTION:
URL:https://kofc14077.org/cal/council-officers-meeting/
LOCATION:St Charles Borromeo Catholic Church\, 7790 S 192nd St\, Gretna\, NE\, 68028\, United States
END:VEVENT
BEGIN:VEVENT
DTSTART;TZID=America/Chicago:20240229T163000
DTEND;TZID=America/Chicago:20240229T190000
DTSTAMP:20260425T102520
CREATED:20240111T183634Z
LAST-MODIFIED:20240111T183634Z
UID:1266-1709224200-1709233200@kofc14077.org
SUMMARY:Fish Fry Set up
DESCRIPTION:
URL:https://kofc14077.org/cal/fish-fry-set-up-3/
CATEGORIES:Activity
END:VEVENT
BEGIN:VEVENT
DTSTART;TZID=America/Chicago:20240223T160000
DTEND;TZID=America/Chicago:20240223T220000
DTSTAMP:20260425T102520
CREATED:20240111T183547Z
LAST-MODIFIED:20240111T183547Z
UID:1264-1708704000-1708725600@kofc14077.org
SUMMARY:Fish Fry
DESCRIPTION:
URL:https://kofc14077.org/cal/fish-fry-2/
LOCATION:St Charles Borromeo Catholic Church\, 7790 S 192nd St\, Gretna\, NE\, 68028\, United States
CATEGORIES:Activity
END:VEVENT
BEGIN:VEVENT
DTSTART;TZID=America/Chicago:20240222T163000
DTEND;TZID=America/Chicago:20240222T190000
DTSTAMP:20260425T102520
CREATED:20240111T183505Z
LAST-MODIFIED:20240111T183505Z
UID:1262-1708619400-1708628400@kofc14077.org
SUMMARY:Fish Fry Set up
DESCRIPTION:
URL:https://kofc14077.org/cal/fish-fry-set-up-2/
LOCATION:St Charles Borromeo Catholic Church\, 7790 S 192nd St\, Gretna\, NE\, 68028\, United States
END:VEVENT
BEGIN:VEVENT
DTSTART;TZID=America/Chicago:20240216T160000
DTEND;TZID=America/Chicago:20240216T220000
DTSTAMP:20260425T102520
CREATED:20240111T183411Z
LAST-MODIFIED:20240111T183411Z
UID:1260-1708099200-1708120800@kofc14077.org
SUMMARY:Fish Fry
DESCRIPTION:
URL:https://kofc14077.org/cal/fish-fry/
LOCATION:St Charles Borromeo Catholic Church\, 7790 S 192nd St\, Gretna\, NE\, 68028\, United States
CATEGORIES:Activity
END:VEVENT
BEGIN:VEVENT
DTSTART;TZID=America/Chicago:20240215T163000
DTEND;TZID=America/Chicago:20240215T190000
DTSTAMP:20260425T102520
CREATED:20240111T183237Z
LAST-MODIFIED:20240111T183237Z
UID:1257-1708014600-1708023600@kofc14077.org
SUMMARY:Fish Fry Set-up
DESCRIPTION:
URL:https://kofc14077.org/cal/fish-fry-set-up/
LOCATION:St Charles Borromeo Catholic Church\, 7790 S 192nd St\, Gretna\, NE\, 68028\, United States
END:VEVENT
BEGIN:VEVENT
DTSTART;TZID=America/Chicago:20240201T190000
DTEND;TZID=America/Chicago:20240201T210000
DTSTAMP:20260425T102520
CREATED:20240105T135441Z
LAST-MODIFIED:20240105T135441Z
UID:1252-1706814000-1706821200@kofc14077.org
SUMMARY:General Membership Meeting
DESCRIPTION:
URL:https://kofc14077.org/cal/general-membership-meeting/
CATEGORIES:General Meeting
END:VEVENT
BEGIN:VEVENT
DTSTART;TZID=America/Chicago:20240201T183000
DTEND;TZID=America/Chicago:20240201T190000
DTSTAMP:20260425T102520
CREATED:20231229T025901Z
LAST-MODIFIED:20231229T025901Z
UID:1207-1706812200-1706814000@kofc14077.org
SUMMARY:Degree Ceremony
DESCRIPTION:
URL:https://kofc14077.org/cal/degree-ceremony/
LOCATION:St Charles Borromeo Catholic Church\, 7790 S 192nd St\, Gretna\, NE\, 68028\, United States
CATEGORIES:Activity
END:VEVENT
BEGIN:VEVENT
DTSTART;VALUE=DATE:20240128
DTEND;VALUE=DATE:20240129
DTSTAMP:20260425T102520
CREATED:20240105T045211Z
LAST-MODIFIED:20240105T045211Z
UID:1247-1706400000-1706486399@kofc14077.org
SUMMARY:Free Throw Championship - Council Level
DESCRIPTION:
URL:https://kofc14077.org/cal/free-throw-championship-council-level/
LOCATION:St Charles Borromeo Catholic Church\, 7790 S 192nd St\, Gretna\, NE\, 68028\, United States
CATEGORIES:Activity
END:VEVENT
BEGIN:VEVENT
DTSTART;VALUE=DATE:20240127
DTEND;VALUE=DATE:20240129
DTSTAMP:20260425T102520
CREATED:20240105T044941Z
LAST-MODIFIED:20240108T152033Z
UID:1245-1706313600-1706486399@kofc14077.org
SUMMARY:One Rose\, One Life Weekend
DESCRIPTION:Knights to collect donations and hand out cards
URL:https://kofc14077.org/cal/one-rose-one-life-weekend/
LOCATION:St Charles Borromeo Catholic Church\, 7790 S 192nd St\, Gretna\, NE\, 68028\, United States
CATEGORIES:Activity
END:VEVENT
BEGIN:VEVENT
DTSTART;TZID=America/Chicago:20240125T191500
DTEND;TZID=America/Chicago:20240125T200000
DTSTAMP:20260425T102520
CREATED:20231229T142711Z
LAST-MODIFIED:20231229T161606Z
UID:1220-1706210100-1706212800@kofc14077.org
SUMMARY:Council's Officer Meeting
DESCRIPTION:
URL:https://kofc14077.org/cal/officers-meeting-2/
END:VEVENT
BEGIN:VEVENT
DTSTART;TZID=America/Chicago:20240121T080000
DTEND;TZID=America/Chicago:20240121T090000
DTSTAMP:20260425T102520
CREATED:20240105T044801Z
LAST-MODIFIED:20240108T152007Z
UID:1243-1705824000-1705827600@kofc14077.org
SUMMARY:Grand opening of St. Charles Community Center
DESCRIPTION:set up tables and chairs at 8am
URL:https://kofc14077.org/cal/grand-opening-of-st-charles-community-center/
LOCATION:St Charles Borromeo Catholic Church\, 7790 S 192nd St\, Gretna\, NE\, 68028\, United States
CATEGORIES:Activity
END:VEVENT
BEGIN:VEVENT
DTSTART;TZID=America/Chicago:20240104T190000
DTEND;TZID=America/Chicago:20240104T200000
DTSTAMP:20260425T102520
CREATED:20231229T025459Z
LAST-MODIFIED:20231229T025628Z
UID:1204-1704394800-1704398400@kofc14077.org
SUMMARY:Knights General Meeting
DESCRIPTION:Rosary starts @ 7pm
URL:https://kofc14077.org/cal/knights-general-meeting-4/
LOCATION:St Charles Borromeo Catholic Church\, 7790 S 192nd St\, Gretna\, NE\, 68028\, United States
CATEGORIES:General Meeting
END:VEVENT
BEGIN:VEVENT
DTSTART;TZID=America/Chicago:20240104T181500
DTEND;TZID=America/Chicago:20240104T190000
DTSTAMP:20260425T102520
CREATED:20230904T132037Z
LAST-MODIFIED:20230904T132037Z
UID:1182-1704392100-1704394800@kofc14077.org
SUMMARY:Assembly - 4th Degree Knights
DESCRIPTION:Occurs every 2 months on the 1st Thursday
URL:https://kofc14077.org/cal/assembly-4th-degree-knights-2/
LOCATION:St Charles Borromeo Catholic Church\, 7790 S 192nd St\, Gretna\, NE\, 68028\, United States
CATEGORIES:General Meeting
ORGANIZER;CN="Scott Kinkaid":MAILTO:scott.kinkaid19@gmail.com
END:VEVENT
BEGIN:VEVENT
DTSTART;TZID=America/Chicago:20231203T070000
DTEND;TZID=America/Chicago:20231203T110000
DTSTAMP:20260425T102520
CREATED:20230803T171946Z
LAST-MODIFIED:20230811T214230Z
UID:1086-1701586800-1701601200@kofc14077.org
SUMMARY:Santa Pancake Breakfast
DESCRIPTION:Time TBD
URL:https://kofc14077.org/cal/santa-pancake-breakfast/
CATEGORIES:Activity
END:VEVENT
BEGIN:VEVENT
DTSTART;TZID=America/Chicago:20231102T203000
DTEND;TZID=America/Chicago:20231102T210000
DTSTAMP:20260425T102520
CREATED:20230904T131910Z
LAST-MODIFIED:20231102T182513Z
UID:1180-1698957000-1698958800@kofc14077.org
SUMMARY:Assembly - 4th Degree Knights
DESCRIPTION:Occurs every 2 months on the 1st Thursday
URL:https://kofc14077.org/cal/assembly-4th-degree-knights/
LOCATION:St Charles Borromeo Catholic Church\, 7790 S 192nd St\, Gretna\, NE\, 68028\, United States
CATEGORIES:General Meeting
ORGANIZER;CN="Scott Kinkaid":MAILTO:scott.kinkaid19@gmail.com
END:VEVENT
BEGIN:VEVENT
DTSTART;TZID=America/Chicago:20231102T193000
DTEND;TZID=America/Chicago:20231102T203000
DTSTAMP:20260425T102520
CREATED:20230831T221217Z
LAST-MODIFIED:20231027T013133Z
UID:1173-1698953400-1698957000@kofc14077.org
SUMMARY:Knights General Meeting
DESCRIPTION:Rosary starts at 7:30pm
URL:https://kofc14077.org/cal/knights-general-meeting-3/
LOCATION:St Charles Borromeo Catholic Church\, 7790 S 192nd St\, Gretna\, NE\, 68028\, United States
CATEGORIES:General Meeting
END:VEVENT
BEGIN:VEVENT
DTSTART;TZID=America/Chicago:20231005T190000
DTEND;TZID=America/Chicago:20231005T200000
DTSTAMP:20260425T102520
CREATED:20230831T221118Z
LAST-MODIFIED:20230831T221118Z
UID:1170-1696532400-1696536000@kofc14077.org
SUMMARY:Knights General Meeting
DESCRIPTION:Rosary starts at 6:45pm
URL:https://kofc14077.org/cal/knights-general-meeting-2/
LOCATION:St Charles Borromeo Catholic Church\, 7790 S 192nd St\, Gretna\, NE\, 68028\, United States
CATEGORIES:General Meeting
END:VEVENT
BEGIN:VEVENT
DTSTART;TZID=America/Chicago:20231005T181500
DTEND;TZID=America/Chicago:20231005T184500
DTSTAMP:20260425T102520
CREATED:20230908T002940Z
LAST-MODIFIED:20230908T003003Z
UID:1184-1696529700-1696531500@kofc14077.org
SUMMARY:Degree Exemplification
DESCRIPTION:
URL:https://kofc14077.org/cal/degree-exemplification/
LOCATION:St Charles Borromeo Catholic Church\, 7790 S 192nd St\, Gretna\, NE\, 68028\, United States
CATEGORIES:Activity
END:VEVENT
BEGIN:VEVENT
DTSTART;TZID=America/Chicago:20230930T090000
DTEND;TZID=America/Chicago:20230930T130000
DTSTAMP:20260425T102520
CREATED:20230831T221830Z
LAST-MODIFIED:20230831T221830Z
UID:1177-1696064400-1696078800@kofc14077.org
SUMMARY:AFSP - Out of Darkness Walk
DESCRIPTION:Check in starts at 9am \nWalk starts at 11am \nKnights present check to AFSP
URL:https://kofc14077.org/cal/afsp-out-of-darkness-walk/
LOCATION:Stinson Park\, Omaha\, NE\, 2285 S 67th St\, Omaha\, NE\, 68106\, United States
CATEGORIES:Activity
END:VEVENT
BEGIN:VEVENT
DTSTART;TZID=America/Chicago:20230924T113000
DTEND;TZID=America/Chicago:20230924T180000
DTSTAMP:20260425T102520
CREATED:20230803T172354Z
LAST-MODIFIED:20230803T172354Z
UID:1088-1695555000-1695578400@kofc14077.org
SUMMARY:St. Charles Borromeo Fall Festival
DESCRIPTION:Church’s Annual Fall Festival
URL:https://kofc14077.org/cal/st-charles-borromeo-fall-festival/
CATEGORIES:Activity
END:VEVENT
BEGIN:VEVENT
DTSTART;TZID=America/Chicago:20230917T130000
DTEND;TZID=America/Chicago:20230917T160000
DTSTAMP:20260425T102520
CREATED:20230803T171247Z
LAST-MODIFIED:20230803T171718Z
UID:1083-1694955600-1694966400@kofc14077.org
SUMMARY:Storm Chasers Game
DESCRIPTION:Storm Chasers Game – Whole church will be invited to participate in this event. \nGame starts at 2:05pm
URL:https://kofc14077.org/cal/storm-chasers-game/
CATEGORIES:Activity
END:VEVENT
BEGIN:VEVENT
DTSTART;TZID=America/Chicago:20230910T120000
DTEND;TZID=America/Chicago:20230910T170000
DTSTAMP:20260425T102520
CREATED:20230807T173441Z
LAST-MODIFIED:20230807T173441Z
UID:1103-1694347200-1694365200@kofc14077.org
SUMMARY:Knights of Columbus Soccer Challenge
DESCRIPTION:Saint Charles Borromeo Catholic Church – Front Field
URL:https://kofc14077.org/cal/knights-of-columbus-soccer-challenge/
LOCATION:St Charles Borromeo Catholic Church\, 7790 S 192nd St\, Gretna\, NE\, 68028\, United States
CATEGORIES:Activity
END:VEVENT
BEGIN:VEVENT
DTSTART;TZID=America/Chicago:20230907T190000
DTEND;TZID=America/Chicago:20230907T200000
DTSTAMP:20260425T102520
CREATED:20230811T212359Z
LAST-MODIFIED:20230811T215152Z
UID:1141-1694113200-1694116800@kofc14077.org
SUMMARY:Knights General Meeting
DESCRIPTION:Rosary starts at 6:45pm
URL:https://kofc14077.org/cal/knights-general-meeting/
CATEGORIES:General Meeting
END:VEVENT
BEGIN:VEVENT
DTSTART;TZID=America/Chicago:20230907T183000
DTEND;TZID=America/Chicago:20230907T190000
DTSTAMP:20260425T102520
CREATED:20230811T212138Z
LAST-MODIFIED:20230831T220659Z
UID:1139-1694111400-1694113200@kofc14077.org
SUMMARY:Officers Meeting
DESCRIPTION:
URL:https://kofc14077.org/cal/officers-meeting/
LOCATION:St Charles Borromeo Catholic Church\, 7790 S 192nd St\, Gretna\, NE\, 68028\, United States
CATEGORIES:Officers Meeting
END:VEVENT
END:VCALENDAR