BEGIN:VCALENDAR
VERSION:2.0
PRODID:-//Knights of Columbus Council 14077 - ECPv6.15.20//NONSGML v1.0//EN
CALSCALE:GREGORIAN
METHOD:PUBLISH
X-WR-CALNAME:Knights of Columbus Council 14077
X-ORIGINAL-URL:https://kofc14077.org
X-WR-CALDESC:Events for Knights of Columbus Council 14077
REFRESH-INTERVAL;VALUE=DURATION:PT1H
X-Robots-Tag:noindex
X-PUBLISHED-TTL:PT1H
BEGIN:VTIMEZONE
TZID:America/Chicago
BEGIN:DAYLIGHT
TZOFFSETFROM:-0600
TZOFFSETTO:-0500
TZNAME:CDT
DTSTART:20230312T080000
END:DAYLIGHT
BEGIN:STANDARD
TZOFFSETFROM:-0500
TZOFFSETTO:-0600
TZNAME:CST
DTSTART:20231105T070000
END:STANDARD
BEGIN:DAYLIGHT
TZOFFSETFROM:-0600
TZOFFSETTO:-0500
TZNAME:CDT
DTSTART:20240310T080000
END:DAYLIGHT
BEGIN:STANDARD
TZOFFSETFROM:-0500
TZOFFSETTO:-0600
TZNAME:CST
DTSTART:20241103T070000
END:STANDARD
BEGIN:DAYLIGHT
TZOFFSETFROM:-0600
TZOFFSETTO:-0500
TZNAME:CDT
DTSTART:20250309T080000
END:DAYLIGHT
BEGIN:STANDARD
TZOFFSETFROM:-0500
TZOFFSETTO:-0600
TZNAME:CST
DTSTART:20251102T070000
END:STANDARD
END:VTIMEZONE
BEGIN:VEVENT
DTSTART;TZID=America/Chicago:20240713T110000
DTEND;TZID=America/Chicago:20240713T190000
DTSTAMP:20260423T182052
CREATED:20230811T224314Z
LAST-MODIFIED:20230811T224314Z
UID:1145-1720868400-1720897200@kofc14077.org
SUMMARY:Knights of Columbus 14077 Golf Event
DESCRIPTION:Information coming…. \n11am Registration – 1pm Shotgun Start
URL:https://kofc14077.org/cal/knights-of-columbus-14077-golf-event/
LOCATION:Tiburon Golf Course\, 10302 S 168th St\, Omaha\, NE\, 68136
CATEGORIES:Activity
ORGANIZER;CN="Kent Sona":MAILTO:KentSona@gmail.com
END:VEVENT
BEGIN:VEVENT
DTSTART;TZID=America/Chicago:20240711T190000
DTEND;TZID=America/Chicago:20240711T203000
DTSTAMP:20260423T182052
CREATED:20240625T150115Z
LAST-MODIFIED:20240625T150315Z
UID:1400-1720724400-1720729800@kofc14077.org
SUMMARY:General Membership Meeting
DESCRIPTION:We will meet in Gym.
URL:https://kofc14077.org/cal/general-membership-meeting-6/
LOCATION:St Charles Borromeo Catholic Church\, 7790 S 192nd St\, Gretna\, NE\, 68028\, United States
CATEGORIES:General Meeting
END:VEVENT
BEGIN:VEVENT
DTSTART;TZID=America/Chicago:20240711T180000
DTEND;TZID=America/Chicago:20240711T190000
DTSTAMP:20260423T182052
CREATED:20240701T021137Z
LAST-MODIFIED:20240701T021137Z
UID:1424-1720720800-1720724400@kofc14077.org
SUMMARY:Assembly - 4th Degree Knights
DESCRIPTION:
URL:https://kofc14077.org/cal/assembly-4th-degree-knights-3/
LOCATION:St Charles Borromeo Catholic Church\, 7790 S 192nd St\, Gretna\, NE\, 68028\, United States
CATEGORIES:General Meeting
ORGANIZER;CN="Scott Kinkaid":MAILTO:scott.kinkaid19@gmail.com
END:VEVENT
BEGIN:VEVENT
DTSTART;TZID=America/Chicago:20240704T090000
DTEND;TZID=America/Chicago:20240704T220000
DTSTAMP:20260423T182052
CREATED:20240625T152944Z
LAST-MODIFIED:20240625T152944Z
UID:1422-1720083600-1720130400@kofc14077.org
SUMMARY:Fireworks Stand - Knights partnering with Wild Willy's
DESCRIPTION:Walmart parking lot at I-80 and Hwy 370
URL:https://kofc14077.org/cal/fireworks-stand-knights-partnering-with-wild-willys-10/
LOCATION:Walmart Parking Lot (I-80 & Hwy 370)\, 11350 Wickersham Blvd\, Gretna\, NE\, 68028
CATEGORIES:Activity
ORGANIZER;CN="Scott Kinkaid":MAILTO:scott.kinkaid19@gmail.com
END:VEVENT
BEGIN:VEVENT
DTSTART;TZID=America/Chicago:20240703T090000
DTEND;TZID=America/Chicago:20240703T220000
DTSTAMP:20260423T182052
CREATED:20240625T152842Z
LAST-MODIFIED:20240625T153027Z
UID:1420-1719997200-1720044000@kofc14077.org
SUMMARY:Fireworks Stand - Knights partnering with Wild Willy's
DESCRIPTION:Walmart parking lot at I-80 and Hwy 370
URL:https://kofc14077.org/cal/fireworks-stand-knights-partnering-with-wild-willys-9/
LOCATION:Walmart Parking Lot (I-80 & Hwy 370)\, 11350 Wickersham Blvd\, Gretna\, NE\, 68028
CATEGORIES:Activity
ORGANIZER;CN="Scott Kinkaid":MAILTO:scott.kinkaid19@gmail.com
END:VEVENT
BEGIN:VEVENT
DTSTART;TZID=America/Chicago:20240702T090000
DTEND;TZID=America/Chicago:20240702T220000
DTSTAMP:20260423T182052
CREATED:20240625T152758Z
LAST-MODIFIED:20240625T153033Z
UID:1418-1719910800-1719957600@kofc14077.org
SUMMARY:Fireworks Stand - Knights partnering with Wild Willy's
DESCRIPTION:Walmart parking lot at I-80 and Hwy 370
URL:https://kofc14077.org/cal/fireworks-stand-knights-partnering-with-wild-willys-8/
LOCATION:Walmart Parking Lot (I-80 & Hwy 370)\, 11350 Wickersham Blvd\, Gretna\, NE\, 68028
CATEGORIES:Activity
ORGANIZER;CN="Scott Kinkaid":MAILTO:scott.kinkaid19@gmail.com
END:VEVENT
BEGIN:VEVENT
DTSTART;TZID=America/Chicago:20240701T090000
DTEND;TZID=America/Chicago:20240701T220000
DTSTAMP:20260423T182052
CREATED:20240625T152721Z
LAST-MODIFIED:20240625T153041Z
UID:1416-1719824400-1719871200@kofc14077.org
SUMMARY:Fireworks Stand - Knights partnering with Wild Willy's
DESCRIPTION:Walmart parking lot at I-80 and Hwy 370
URL:https://kofc14077.org/cal/fireworks-stand-knights-partnering-with-wild-willys-7/
LOCATION:Walmart Parking Lot (I-80 & Hwy 370)\, 11350 Wickersham Blvd\, Gretna\, NE\, 68028
CATEGORIES:Activity
ORGANIZER;CN="Scott Kinkaid":MAILTO:scott.kinkaid19@gmail.com
END:VEVENT
BEGIN:VEVENT
DTSTART;TZID=America/Chicago:20240630T090000
DTEND;TZID=America/Chicago:20240630T220000
DTSTAMP:20260423T182052
CREATED:20240625T152611Z
LAST-MODIFIED:20240625T153054Z
UID:1414-1719738000-1719784800@kofc14077.org
SUMMARY:Fireworks Stand - Knights partnering with Wild Willy's
DESCRIPTION:Walmart parking lot at I-80 and Hwy 370
URL:https://kofc14077.org/cal/fireworks-stand-knights-partnering-with-wild-willys-6/
LOCATION:Walmart Parking Lot (I-80 & Hwy 370)\, 11350 Wickersham Blvd\, Gretna\, NE\, 68028
CATEGORIES:Activity
ORGANIZER;CN="Scott Kinkaid":MAILTO:scott.kinkaid19@gmail.com
END:VEVENT
BEGIN:VEVENT
DTSTART;TZID=America/Chicago:20240629T090000
DTEND;TZID=America/Chicago:20240629T220000
DTSTAMP:20260423T182052
CREATED:20240625T152512Z
LAST-MODIFIED:20240625T153102Z
UID:1412-1719651600-1719698400@kofc14077.org
SUMMARY:Fireworks Stand - Knights partnering with Wild Willy's
DESCRIPTION:Walmart parking lot at I-80 and Hwy 370
URL:https://kofc14077.org/cal/fireworks-stand-knights-partnering-with-wild-willys-5/
LOCATION:Walmart Parking Lot (I-80 & Hwy 370)\, 11350 Wickersham Blvd\, Gretna\, NE\, 68028
CATEGORIES:Activity
ORGANIZER;CN="Scott Kinkaid":MAILTO:scott.kinkaid19@gmail.com
END:VEVENT
BEGIN:VEVENT
DTSTART;TZID=America/Chicago:20240628T090000
DTEND;TZID=America/Chicago:20240628T220000
DTSTAMP:20260423T182052
CREATED:20240625T152412Z
LAST-MODIFIED:20240625T153108Z
UID:1410-1719565200-1719612000@kofc14077.org
SUMMARY:Fireworks Stand - Knights partnering with Wild Willy's
DESCRIPTION:Walmart parking lot at I-80 and Hwy 370
URL:https://kofc14077.org/cal/fireworks-stand-knights-partnering-with-wild-willys-4/
LOCATION:Walmart Parking Lot (I-80 & Hwy 370)\, 11350 Wickersham Blvd\, Gretna\, NE\, 68028
CATEGORIES:Activity
ORGANIZER;CN="Scott Kinkaid":MAILTO:scott.kinkaid19@gmail.com
END:VEVENT
BEGIN:VEVENT
DTSTART;TZID=America/Chicago:20240627T191500
DTEND;TZID=America/Chicago:20240627T200000
DTSTAMP:20260423T182052
CREATED:20240625T145821Z
LAST-MODIFIED:20240625T150203Z
UID:1398-1719515700-1719518400@kofc14077.org
SUMMARY:Council Officer's Meeting
DESCRIPTION:We will be in the Parish Life Center – Classroom #3
URL:https://kofc14077.org/cal/council-officers-meeting-2/
LOCATION:St Charles Borromeo Catholic Church\, 7790 S 192nd St\, Gretna\, NE\, 68028\, United States
CATEGORIES:Officers,Officers Meeting
END:VEVENT
BEGIN:VEVENT
DTSTART;TZID=America/Chicago:20240627T090000
DTEND;TZID=America/Chicago:20240627T220000
DTSTAMP:20260423T182052
CREATED:20240625T152258Z
LAST-MODIFIED:20240625T153117Z
UID:1408-1719478800-1719525600@kofc14077.org
SUMMARY:Fireworks Stand - Knights partnering with Wild Willy's
DESCRIPTION:Walmart parking lot at I-80 and Hwy 370
URL:https://kofc14077.org/cal/fireworks-stand-knights-partnering-with-wild-willys-3/
LOCATION:Walmart Parking Lot (I-80 & Hwy 370)\, 11350 Wickersham Blvd\, Gretna\, NE\, 68028
CATEGORIES:Activity
ORGANIZER;CN="Scott Kinkaid":MAILTO:scott.kinkaid19@gmail.com
END:VEVENT
BEGIN:VEVENT
DTSTART;TZID=America/Chicago:20240626T090000
DTEND;TZID=America/Chicago:20240626T220000
DTSTAMP:20260423T182052
CREATED:20240625T152159Z
LAST-MODIFIED:20240625T153124Z
UID:1406-1719392400-1719439200@kofc14077.org
SUMMARY:Fireworks Stand - Knights partnering with Wild Willy's
DESCRIPTION:Walmart parking lot at I-80 and Hwy 370
URL:https://kofc14077.org/cal/fireworks-stand-knights-partnering-with-wild-willys-2/
LOCATION:Walmart Parking Lot (I-80 & Hwy 370)\, 11350 Wickersham Blvd\, Gretna\, NE\, 68028
CATEGORIES:Activity
ORGANIZER;CN="Scott Kinkaid":MAILTO:scott.kinkaid19@gmail.com
END:VEVENT
BEGIN:VEVENT
DTSTART;TZID=America/Chicago:20240625T090000
DTEND;TZID=America/Chicago:20240625T220000
DTSTAMP:20260423T182052
CREATED:20240625T151836Z
LAST-MODIFIED:20240625T151836Z
UID:1403-1719306000-1719352800@kofc14077.org
SUMMARY:Fireworks Stand - Knights partnering with Wild Willy's
DESCRIPTION:Walmart parking lot at I-80 and Hwy 370
URL:https://kofc14077.org/cal/fireworks-stand-knights-partnering-with-wild-willys/
LOCATION:Walmart Parking Lot (I-80 & Hwy 370)\, 11350 Wickersham Blvd\, Gretna\, NE\, 68028
CATEGORIES:Activity
ORGANIZER;CN="Scott Kinkaid":MAILTO:scott.kinkaid19@gmail.com
END:VEVENT
BEGIN:VEVENT
DTSTART;TZID=America/Chicago:20240606T190000
DTEND;TZID=America/Chicago:20240606T210000
DTSTAMP:20260423T182052
CREATED:20240225T144929Z
LAST-MODIFIED:20240225T144929Z
UID:1379-1717700400-1717707600@kofc14077.org
SUMMARY:General Membership Meeting
DESCRIPTION:
URL:https://kofc14077.org/cal/general-membership-meeting-4/
LOCATION:St Charles Borromeo Catholic Church\, 7790 S 192nd St\, Gretna\, NE\, 68028\, United States
CATEGORIES:General Meeting
END:VEVENT
BEGIN:VEVENT
DTSTART;TZID=America/Chicago:20240511T180000
DTEND;TZID=America/Chicago:20240511T210000
DTSTAMP:20260423T182052
CREATED:20240105T044625Z
LAST-MODIFIED:20240105T044625Z
UID:1241-1715450400-1715461200@kofc14077.org
SUMMARY:Heart of a Child Ministries spaghetti feed
DESCRIPTION:
URL:https://kofc14077.org/cal/heart-of-a-child-ministries-spaghetti-feed/
LOCATION:St Charles Borromeo Catholic Church\, 7790 S 192nd St\, Gretna\, NE\, 68028\, United States
CATEGORIES:Activity
END:VEVENT
BEGIN:VEVENT
DTSTART;TZID=America/Chicago:20240502T190000
DTEND;TZID=America/Chicago:20240502T210000
DTSTAMP:20260423T182052
CREATED:20240225T144323Z
LAST-MODIFIED:20240225T144323Z
UID:1375-1714676400-1714683600@kofc14077.org
SUMMARY:General Membership Meeting
DESCRIPTION:
URL:https://kofc14077.org/cal/general-membership-meeting-3/
LOCATION:St Charles Borromeo Catholic Church\, 7790 S 192nd St\, Gretna\, NE\, 68028\, United States
CATEGORIES:General Meeting
END:VEVENT
BEGIN:VEVENT
DTSTART;TZID=America/Chicago:20240502T181500
DTEND;TZID=America/Chicago:20240502T190000
DTSTAMP:20260423T182052
CREATED:20240225T144415Z
LAST-MODIFIED:20240225T144415Z
UID:1377-1714673700-1714676400@kofc14077.org
SUMMARY:Assembly - 4th Degree Knights
DESCRIPTION:
URL:https://kofc14077.org/cal/assembly-4th-degree-knights-4/
LOCATION:St Charles Borromeo Catholic Church\, 7790 S 192nd St\, Gretna\, NE\, 68028\, United States
CATEGORIES:General Meeting
ORGANIZER;CN="Scott Kinkaid":MAILTO:scott.kinkaid19@gmail.com
END:VEVENT
BEGIN:VEVENT
DTSTART;TZID=America/Chicago:20240418T170000
DTEND;TZID=America/Chicago:20240418T220000
DTSTAMP:20260423T182052
CREATED:20240129T165731Z
LAST-MODIFIED:20240129T165731Z
UID:1327-1713459600-1713477600@kofc14077.org
SUMMARY:Recruitment Event
DESCRIPTION:Beer and Spirits tasting event
URL:https://kofc14077.org/cal/recruitment-event/
LOCATION:St Charles Borromeo Catholic Church\, 7790 S 192nd St\, Gretna\, NE\, 68028\, United States
CATEGORIES:Activity
END:VEVENT
BEGIN:VEVENT
DTSTART;TZID=America/Chicago:20240414T070000
DTEND;TZID=America/Chicago:20240414T110000
DTSTAMP:20260423T182052
CREATED:20240105T044005Z
LAST-MODIFIED:20240105T044106Z
UID:1235-1713078000-1713092400@kofc14077.org
SUMMARY:Pancake Breakfast
DESCRIPTION:
URL:https://kofc14077.org/cal/pancake-breakfast-2/
LOCATION:St Charles Borromeo Catholic Church\, 7790 S 192nd St\, Gretna\, NE\, 68028\, United States
CATEGORIES:Activity
END:VEVENT
BEGIN:VEVENT
DTSTART;TZID=America/Chicago:20240404T190000
DTEND;TZID=America/Chicago:20240404T210000
DTSTAMP:20260423T182052
CREATED:20240225T143927Z
LAST-MODIFIED:20240225T143927Z
UID:1371-1712257200-1712264400@kofc14077.org
SUMMARY:General Membership Meeting
DESCRIPTION:
URL:https://kofc14077.org/cal/general-membership-meeting-2/
LOCATION:St Charles Borromeo Catholic Church\, 7790 S 192nd St\, Gretna\, NE\, 68028\, United States
CATEGORIES:General Meeting
END:VEVENT
BEGIN:VEVENT
DTSTART;TZID=America/Chicago:20240322T160000
DTEND;TZID=America/Chicago:20240322T220000
DTSTAMP:20260423T182052
CREATED:20240111T184627Z
LAST-MODIFIED:20240111T184627Z
UID:1281-1711123200-1711144800@kofc14077.org
SUMMARY:Fish Fry
DESCRIPTION:
URL:https://kofc14077.org/cal/fish-fry-6/
LOCATION:St Charles Borromeo Catholic Church\, 7790 S 192nd St\, Gretna\, NE\, 68028\, United States
CATEGORIES:Activity
END:VEVENT
BEGIN:VEVENT
DTSTART;TZID=America/Chicago:20240321T163000
DTEND;TZID=America/Chicago:20240321T190000
DTSTAMP:20260423T182052
CREATED:20240111T184544Z
LAST-MODIFIED:20240111T184544Z
UID:1279-1711038600-1711047600@kofc14077.org
SUMMARY:Fish Fry Set up
DESCRIPTION:
URL:https://kofc14077.org/cal/fish-fry-set-up-6/
LOCATION:St Charles Borromeo Catholic Church\, 7790 S 192nd St\, Gretna\, NE\, 68028\, United States
CATEGORIES:Activity
END:VEVENT
BEGIN:VEVENT
DTSTART;TZID=America/Chicago:20240315T160000
DTEND;TZID=America/Chicago:20240315T220000
DTSTAMP:20260423T182052
CREATED:20240111T184506Z
LAST-MODIFIED:20240111T184506Z
UID:1277-1710518400-1710540000@kofc14077.org
SUMMARY:Fish Fry
DESCRIPTION:
URL:https://kofc14077.org/cal/fish-fry-5/
LOCATION:St Charles Borromeo Catholic Church\, 7790 S 192nd St\, Gretna\, NE\, 68028\, United States
CATEGORIES:Activity
END:VEVENT
BEGIN:VEVENT
DTSTART;TZID=America/Chicago:20240314T163000
DTEND;TZID=America/Chicago:20240314T190000
DTSTAMP:20260423T182052
CREATED:20240111T184428Z
LAST-MODIFIED:20240111T184428Z
UID:1275-1710433800-1710442800@kofc14077.org
SUMMARY:Fish Fry Set up
DESCRIPTION:
URL:https://kofc14077.org/cal/fish-fry-set-up-5/
LOCATION:St Charles Borromeo Catholic Church\, 7790 S 192nd St\, Gretna\, NE\, 68028\, United States
CATEGORIES:Activity
END:VEVENT
BEGIN:VEVENT
DTSTART;TZID=America/Chicago:20240308T160000
DTEND;TZID=America/Chicago:20240308T220000
DTSTAMP:20260423T182052
CREATED:20240111T184346Z
LAST-MODIFIED:20240111T184346Z
UID:1273-1709913600-1709935200@kofc14077.org
SUMMARY:Fish Fry
DESCRIPTION:
URL:https://kofc14077.org/cal/fish-fry-4/
LOCATION:St Charles Borromeo Catholic Church\, 7790 S 192nd St\, Gretna\, NE\, 68028\, United States
CATEGORIES:Activity
END:VEVENT
BEGIN:VEVENT
DTSTART;TZID=America/Chicago:20240307T190000
DTEND;TZID=America/Chicago:20240307T210000
DTSTAMP:20260423T182052
CREATED:20240301T023204Z
LAST-MODIFIED:20240301T023204Z
UID:1381-1709838000-1709845200@kofc14077.org
SUMMARY:General Membership Meeting
DESCRIPTION:
URL:https://kofc14077.org/cal/general-membership-meeting-5/
LOCATION:St Charles Borromeo Catholic Church\, 7790 S 192nd St\, Gretna\, NE\, 68028\, United States
CATEGORIES:General Meeting
END:VEVENT
BEGIN:VEVENT
DTSTART;TZID=America/Chicago:20240307T163000
DTEND;TZID=America/Chicago:20240307T190000
DTSTAMP:20260423T182052
CREATED:20240111T184002Z
LAST-MODIFIED:20240111T184002Z
UID:1271-1709829000-1709838000@kofc14077.org
SUMMARY:Fish Fry Set up
DESCRIPTION:
URL:https://kofc14077.org/cal/fish-fry-set-up-4/
LOCATION:St Charles Borromeo Catholic Church\, 7790 S 192nd St\, Gretna\, NE\, 68028\, United States
CATEGORIES:Activity
END:VEVENT
BEGIN:VEVENT
DTSTART;VALUE=DATE:20240303
DTEND;VALUE=DATE:20240304
DTSTAMP:20260423T182052
CREATED:20240105T045258Z
LAST-MODIFIED:20240223T145053Z
UID:1250-1709424000-1709510399@kofc14077.org
SUMMARY:Free Throw Championship - District
DESCRIPTION:
URL:https://kofc14077.org/cal/free-throw-championship-district/
LOCATION:St Charles Borromeo Catholic Church\, 7790 S 192nd St\, Gretna\, NE\, 68028\, United States
CATEGORIES:Activity
END:VEVENT
BEGIN:VEVENT
DTSTART;TZID=America/Chicago:20240301T160000
DTEND;TZID=America/Chicago:20240301T220000
DTSTAMP:20260423T182052
CREATED:20240111T183711Z
LAST-MODIFIED:20240111T183711Z
UID:1268-1709308800-1709330400@kofc14077.org
SUMMARY:Fish Fry
DESCRIPTION:
URL:https://kofc14077.org/cal/fish-fry-3/
LOCATION:St Charles Borromeo Catholic Church\, 7790 S 192nd St\, Gretna\, NE\, 68028\, United States
END:VEVENT
END:VCALENDAR